BEGIN:VCALENDAR
VERSION:2.0
PRODID:-//New Mexico Chapter of the BMW CCA - ECPv6.15.20//NONSGML v1.0//EN
CALSCALE:GREGORIAN
METHOD:PUBLISH
X-ORIGINAL-URL:https://www.nmbmwcca.org
X-WR-CALDESC:Events for New Mexico Chapter of the BMW CCA
REFRESH-INTERVAL;VALUE=DURATION:PT1H
X-Robots-Tag:noindex
X-PUBLISHED-TTL:PT1H
BEGIN:VTIMEZONE
TZID:America/Denver
BEGIN:DAYLIGHT
TZOFFSETFROM:-0700
TZOFFSETTO:-0600
TZNAME:MDT
DTSTART:20250309T090000
END:DAYLIGHT
BEGIN:STANDARD
TZOFFSETFROM:-0600
TZOFFSETTO:-0700
TZNAME:MST
DTSTART:20251102T080000
END:STANDARD
BEGIN:DAYLIGHT
TZOFFSETFROM:-0700
TZOFFSETTO:-0600
TZNAME:MDT
DTSTART:20260308T090000
END:DAYLIGHT
BEGIN:STANDARD
TZOFFSETFROM:-0600
TZOFFSETTO:-0700
TZNAME:MST
DTSTART:20261101T080000
END:STANDARD
BEGIN:DAYLIGHT
TZOFFSETFROM:-0700
TZOFFSETTO:-0600
TZNAME:MDT
DTSTART:20270314T090000
END:DAYLIGHT
BEGIN:STANDARD
TZOFFSETFROM:-0600
TZOFFSETTO:-0700
TZNAME:MST
DTSTART:20271107T080000
END:STANDARD
END:VTIMEZONE
BEGIN:VEVENT
DTSTART;TZID=America/Denver:20260117T083000
DTEND;TZID=America/Denver:20260117T103000
DTSTAMP:20260421T065329
CREATED:20251222T165835Z
LAST-MODIFIED:20251222T165835Z
UID:7478-1768638600-1768645800@www.nmbmwcca.org
SUMMARY:January 2026 Sandia BMW Wheels & Coffee Meet and Greet
DESCRIPTION:Join the BMW Car Club of America New Mexico Chapter for an informal Meet and Greet at Sandia BMW’s Wheels & Coffee\, Saturday\, January 17\, 2026 from 8:30 a.m. to 10:30 a.m.
URL:https://www.nmbmwcca.org/event/january-2026-sandia-bmw-wheels-coffee-meet-and-greet/
LOCATION:Sandia BMW\, 6001 Pan American Frwy. NE\, Albuquerque\, New Mexico\, 87109
CATEGORIES:Non-Chapter Event,Social Event
ATTACH;FMTTYPE=image/jpeg:https://www.nmbmwcca.org/wp-content/uploads/2022/01/Wheels-and-Coffee-e1649349975404.jpg
END:VEVENT
BEGIN:VEVENT
DTSTART;TZID=America/Denver:20260117T103000
DTEND;TZID=America/Denver:20260117T143000
DTSTAMP:20260421T065329
CREATED:20260106T174040Z
LAST-MODIFIED:20260106T174040Z
UID:7512-1768645800-1768660200@www.nmbmwcca.org
SUMMARY:2026 Annual Membership Meeting at The Pizza Barn in Edgewood\, NM
DESCRIPTION:Join the BMW Car Club of America New Mexico Chapter for the 2026 Annual Membership Meeting on Saturday\, January 17\, 2026. Meet at Sandia Wheels and Coffee at 10:30 am by the Sandia BMW service desk for an 11:00 am departure. From there we will drive to Edgewood via NM 333 on the Route 66 National Scenic Byway for lunch at the The Pizza Barn\,  courtesy of the NM Chapter. \nChapter President Phil Undercuffler will review last year’s activities\, present the Treasurer’s Report\, and share ideas for future events. BMW CCA members who are interested in serving on the NM Chapter Board of Directors are encouraged to attend and consider getting involved.
URL:https://www.nmbmwcca.org/event/2026-annual-membership-meeting-at-the-pizza-barn-in-edgewood-nm/
LOCATION:The Pizza Barn\, 11 Plaza Loop\, Edgewood\, New Mexico\, 87015
CATEGORIES:Driving Event,Membership Meeting
ATTACH;FMTTYPE=image/jpeg:https://www.nmbmwcca.org/wp-content/uploads/2025/01/Pizza-Barn.jpg
ORGANIZER;CN="BMW CCA New Mexico Chapter":MAILTO:president@nmbmwcca.org
END:VEVENT
BEGIN:VEVENT
DTSTART;TZID=America/Denver:20260221T083000
DTEND;TZID=America/Denver:20260221T103000
DTSTAMP:20260421T065329
CREATED:20260119T165131Z
LAST-MODIFIED:20260119T165609Z
UID:7533-1771662600-1771669800@www.nmbmwcca.org
SUMMARY:February 2026 Sandia BMW Wheels & Coffee Meet and Greet
DESCRIPTION:Join the BMW Car Club of America New Mexico Chapter for an informal Meet and Greet at Sandia BMW’s Wheels & Coffee\, Saturday\, February 21\, 2026 from 8:30 a.m. to 10:30 a.m.
URL:https://www.nmbmwcca.org/event/february-2026-sandia-bmw-wheels-coffee-meet-and-greet/
LOCATION:Sandia BMW\, 6001 Pan American Frwy. NE\, Albuquerque\, New Mexico\, 87109
CATEGORIES:Non-Chapter Event,Social Event
ATTACH;FMTTYPE=image/jpeg:https://www.nmbmwcca.org/wp-content/uploads/2022/01/Wheels-and-Coffee-e1649349975404.jpg
END:VEVENT
BEGIN:VEVENT
DTSTART;TZID=America/Denver:20260221T103000
DTEND;TZID=America/Denver:20260221T150000
DTSTAMP:20260421T065329
CREATED:20260201T225152Z
LAST-MODIFIED:20260202T053232Z
UID:7561-1771669800-1771686000@www.nmbmwcca.org
SUMMARY:Historic Pre-1937 Route 66 Drive South of Albuquerque
DESCRIPTION:In 2026\, Route 66 turns 100\, and the New Mexico Chapter of the BMW CCA will mark the Centennial with a special drive tracing one of the Mother Road’s earliest alignments south of Albuquerque. This tour follows the pre-1937 Route 66\, highlighting a chapter of New Mexico highway history that was largely bypassed when the road was realigned. \nWe will meet at the historic Gutierrez Hubbell House (6029 Isleta Blvd SW\, Albuquerque) on old Route 66 at 10:30 a.m. Participants are encouraged to arrive early and enjoy time at the museum as we gather. From there\, we’ll depart as a group and follow Historic Route 66 south to Los Lunas\, traveling the same roadway motorists used during Route 66’s earliest years. \nOur first leg takes us along Historic Route 66 (NM 314) to Los Lunas\, where we’ll stop for lunch at Teofilo’s Restaurante\, a registered State Landmark on old Route 66.  After lunch\, we’ll continue west\, following the original Route 66 alignment (NM 6) toward the Rio Puerco bridge. This bridge opened the Laguna Cutoff to transcontinental traffic thereby enabling the realignment of Route 66 and effectively ended the use of the older southern route. We’ll conclude the drive with a group photo opportunity near the original bridge before heading home. \nBecause lunch arrangements require a headcount\, please RSVP below by Thursday\, February 19\, 2026.
URL:https://www.nmbmwcca.org/event/historic-pre-1937-route-66-drive-south-of-albuquerque/
LOCATION:Gutierrez Hubbell House\, 6029 Isleta Blvd SW\, Albuquerque\, New Mexico\, 87105
CATEGORIES:Driving Event
ATTACH;FMTTYPE=image/jpeg:https://www.nmbmwcca.org/wp-content/uploads/2026/02/Historic-Route-66-New-Mexico-cropped.jpg
ORGANIZER;CN="BMW CCA NM Chapter - Event Tourmeister":MAILTO:event-tourmeister@nmbmwcca.org
END:VEVENT
BEGIN:VEVENT
DTSTART;TZID=America/Denver:20260321T083000
DTEND;TZID=America/Denver:20260321T103000
DTSTAMP:20260421T065329
CREATED:20260222T150729Z
LAST-MODIFIED:20260222T151250Z
UID:7615-1774081800-1774089000@www.nmbmwcca.org
SUMMARY:March 2026 Sandia BMW Wheels & Coffee Meet and Greet
DESCRIPTION:Join the BMW Car Club of America New Mexico Chapter for an informal Meet and Greet at Sandia BMW’s Wheels & Coffee\, Saturday\, March 21\, 2026 from 8:30 a.m. to 10:30 a.m.
URL:https://www.nmbmwcca.org/event/march-2026-sandia-bmw-wheels-coffee-meet-and-greet/
LOCATION:Sandia BMW\, 6001 Pan American Frwy. NE\, Albuquerque\, New Mexico\, 87109
CATEGORIES:Non-Chapter Event,Social Event
ATTACH;FMTTYPE=image/jpeg:https://www.nmbmwcca.org/wp-content/uploads/2022/01/Wheels-and-Coffee-e1649349975404.jpg
END:VEVENT
BEGIN:VEVENT
DTSTART;TZID=America/Denver:20260322T080000
DTEND;TZID=America/Denver:20260322T150000
DTSTAMP:20260421T065329
CREATED:20260302T030923Z
LAST-MODIFIED:20260330T220437Z
UID:7647-1774166400-1774191600@www.nmbmwcca.org
SUMMARY:Equinox TSD Rally
DESCRIPTION:On Sunday\, March 22\, 2026\, the BMW Car Club of America New Mexico Chapter will hold the Equinox TSD Rally. This will be somewhat of an educational rally\, introducing the rallyists to principles of Time-Speed-Distance (TSD) rallies. \nParticipants will use the Richta Competitor Rally app on their smartphones or tablets\, eliminating the need for course workers. All driving (except for occasional pull-outs) will be on paved roads at legal speeds\, and Rallymaster Dave Olson promises to put together a rally that will be easy to follow. Each car must be fully street-legal\, preferably quiet\, and have a driver and a navigator. Additional passengers will also be permitted. General Instructions will be provided when you register. \nWe will gather promptly at 8:00 a.m. at La Puerta Real Estate Services in Placitas\, NM\, 0.621 miles east of I-25 (have to get you in the spirit of things\, here.) There will be a drivers’ meeting and the first car off will be at 9:00 a.m. The rally will conclude with lunch and awards at Village Pizza\, 4266 Corrales Rd\, Corrales\, NM at about 1:00 p.m. There will be two rest stops along the route\, one at a coffeehouse and one at a McDonalds.  \n\nQuestions? Email Dave at rallymaster@nmbmwcca.org.
URL:https://www.nmbmwcca.org/event/equinox-tsd-rally/
LOCATION:La Puerta Real Estate Services\, 1 Ridge Ct.\, Placitas\, New Mexico\, 87043
CATEGORIES:Driving Event,Rally
ATTACH;FMTTYPE=image/jpeg:https://www.nmbmwcca.org/wp-content/uploads/2026/03/Rally-App-400.jpg
ORGANIZER;CN="BMW CCA NM Chapter - Rallymaster":MAILTO:rallymaster@nmbmwcca.org
END:VEVENT
BEGIN:VEVENT
DTSTART;TZID=America/Denver:20260418T083000
DTEND;TZID=America/Denver:20260418T103000
DTSTAMP:20260421T065329
CREATED:20260323T142843Z
LAST-MODIFIED:20260323T142843Z
UID:7692-1776501000-1776508200@www.nmbmwcca.org
SUMMARY:April 2026 Sandia BMW Wheels & Coffee Meet and Greet
DESCRIPTION:Join the BMW Car Club of America New Mexico Chapter for an informal Meet and Greet at Sandia BMW’s Wheels & Coffee\, Saturday\, April 18\, 2026 from 8:30 a.m. to 10:30 a.m.
URL:https://www.nmbmwcca.org/event/april-2026-sandia-bmw-wheels-coffee-meet-and-greet/
LOCATION:Sandia BMW\, 6001 Pan American Frwy. NE\, Albuquerque\, New Mexico\, 87109
CATEGORIES:Non-Chapter Event,Social Event
ATTACH;FMTTYPE=image/jpeg:https://www.nmbmwcca.org/wp-content/uploads/2022/01/Wheels-and-Coffee-e1649349975404.jpg
END:VEVENT
BEGIN:VEVENT
DTSTART;TZID=America/Denver:20260418T100000
DTEND;TZID=America/Denver:20260418T160000
DTSTAMP:20260421T065329
CREATED:20260330T154414Z
LAST-MODIFIED:20260330T154414Z
UID:7742-1776506400-1776528000@www.nmbmwcca.org
SUMMARY:VLA Spring Open House Tour
DESCRIPTION:Join the New Mexico Chapter of the BMW Car Club of America for a truly unique spring drive that blends scenic roads\, great food\, and cutting-edge science. On April 18\, 2026\, Tourmeister Nick Upton leads us from Socorro to one of the most iconic scientific sites in the world\, the Karl G. Jansky Very Large Array (VLA). \nWe’ll begin the day by gathering at the Walmart in Socorro (700 6th Street) between 10:00 and 10:15 a.m.\, giving everyone time to connect before heading out. From there\, we’ll make a short drive to M Mountain Grill\, where a reserved patio brunch awaits at 11:00 a.m. Enjoy a relaxed meal with fellow members and take in views of Socorro’s iconic “M” Mountain. \nAt approximately 12:30 p.m.\, we’ll depart for a memorable 52-mile drive along US 60 along the high desert plains west of Socorro. Our destination is the VLA Spring Open House\, where Nick has secured initial passes for our group\, with additional availability if needed. \nAt the VLA\, you’ll have the opportunity to explore the grounds at your own pace\, view fascinating exhibits\, and take self-guided tours among the massive radio telescopes that have helped unlock the mysteries of the universe. We will also attempt to arrange guided tours for those interested\, depending on availability upon arrival. Guests are welcome to stay and explore as long as they wish\, with the site closing promptly at 4:00 p.m. \nThis is a perfect opportunity to combine a spirited BMW drive with an unforgettable destination that showcases New Mexico’s unique blend of landscape and innovation. Please RSVP by Thursday\, April 16\, 2026 below so we can confirm headcount for brunch reservations and VLA access. \nEmail Nick with questions at tourmeister-nick@nmbmwcca.org. \nWe look forward to seeing you!
URL:https://www.nmbmwcca.org/event/vla-spring-open-house-tour/
LOCATION:Very Large Array\, Old Hwy 60\, Magdalena\, New Mexico\, 87825
CATEGORIES:Driving Event
ATTACH;FMTTYPE=image/jpeg:https://www.nmbmwcca.org/wp-content/uploads/2024/08/VLAArrayNiteClouds_1200.jpg
ORGANIZER;CN="BMW CCA Tourmeister Nick":MAILTO:tourmeister-nick@nmbmwcca.org
END:VEVENT
BEGIN:VEVENT
DTSTART;TZID=America/Denver:20260516T083000
DTEND;TZID=America/Denver:20260516T103000
DTSTAMP:20260421T065329
CREATED:20260420T171234Z
LAST-MODIFIED:20260420T171234Z
UID:7794-1778920200-1778927400@www.nmbmwcca.org
SUMMARY:May 2026 Sandia BMW Wheels & Coffee Meet and Greet
DESCRIPTION:Join the BMW Car Club of America New Mexico Chapter for an informal Meet and Greet at Sandia BMW’s Wheels & Coffee\, Saturday\, May 16\, 2026 from 8:30 a.m. to 10:30 a.m.
URL:https://www.nmbmwcca.org/event/may-2026-sandia-bmw-wheels-coffee-meet-and-greet/
LOCATION:Sandia BMW\, 6001 Pan American Frwy. NE\, Albuquerque\, New Mexico\, 87109
CATEGORIES:Non-Chapter Event,Social Event
ATTACH;FMTTYPE=image/jpeg:https://www.nmbmwcca.org/wp-content/uploads/2022/01/Wheels-and-Coffee-e1649349975404.jpg
END:VEVENT
BEGIN:VEVENT
DTSTART;TZID=America/Denver:20260524T100000
DTEND;TZID=America/Denver:20260524T130000
DTSTAMP:20260421T065329
CREATED:20260331T143600Z
LAST-MODIFIED:20260331T154117Z
UID:7750-1779616800-1779627600@www.nmbmwcca.org
SUMMARY:2026 BMW Clean Car Show at the NM Veterans Memorial
DESCRIPTION:Come show off your clean BMW and support the New Mexico Veterans Memorial on Sunday\, May 24\, 2026 for the BMW Car Club of America New Mexico Chapter Clean Car Show. We will start at 10 am and finish by 1 pm. There will be no judging\, but we will have a People’s Choice competition\, so be sure to register with us when you come in. The winners will receive a trophy along with gift certificates\, generously provided by Sandia BMW. We will be in the North parking lot of the beautiful Veterans Park at 1100 Louisiana Blvd SE in Albuquerque. If you have a BMW ‘Z’\, look for the popular “BMW Z Corral” in the NE corner of the parking lot. \nYou do not need to be a member of the BMW Car Club of America to participate\, nor is there a registration fee. However\, we do ask that you consider supporting the New Mexico Veterans Memorial in their efforts to help us remember and honor the many veterans who have made a difference serving our country. Cash donations are fine\, or you can make checks payable to the New Mexico Veterans Memorial\, Inc.\, a 501(c)(3) charitable organization. \nSpecial thanks to Sandia BMW for their continued support of this event.
URL:https://www.nmbmwcca.org/event/2026-bmw-clean-car-show-at-the-nm-veterans-memorial/
LOCATION:New Mexico Veterans Memorial\, 1100 Louisiana Blvd SE\, Albuquerque\, NM\, 87108
CATEGORIES:Car Show
ATTACH;FMTTYPE=image/jpeg:https://www.nmbmwcca.org/wp-content/uploads/2022/05/NM-Vets.jpg
ORGANIZER;CN="BMW CCA New Mexico Chapter":MAILTO:president@nmbmwcca.org
END:VEVENT
END:VCALENDAR