BEGIN:VCALENDAR
VERSION:2.0
PRODID:-//New Mexico Chapter of the BMW CCA - ECPv6.15.20//NONSGML v1.0//EN
CALSCALE:GREGORIAN
METHOD:PUBLISH
X-WR-CALNAME:New Mexico Chapter of the BMW CCA
X-ORIGINAL-URL:https://www.nmbmwcca.org
X-WR-CALDESC:Events for New Mexico Chapter of the BMW CCA
REFRESH-INTERVAL;VALUE=DURATION:PT1H
X-Robots-Tag:noindex
X-PUBLISHED-TTL:PT1H
BEGIN:VTIMEZONE
TZID:America/Denver
BEGIN:DAYLIGHT
TZOFFSETFROM:-0700
TZOFFSETTO:-0600
TZNAME:MDT
DTSTART:20150308T090000
END:DAYLIGHT
BEGIN:STANDARD
TZOFFSETFROM:-0600
TZOFFSETTO:-0700
TZNAME:MST
DTSTART:20151101T080000
END:STANDARD
BEGIN:DAYLIGHT
TZOFFSETFROM:-0700
TZOFFSETTO:-0600
TZNAME:MDT
DTSTART:20160313T090000
END:DAYLIGHT
BEGIN:STANDARD
TZOFFSETFROM:-0600
TZOFFSETTO:-0700
TZNAME:MST
DTSTART:20161106T080000
END:STANDARD
BEGIN:DAYLIGHT
TZOFFSETFROM:-0700
TZOFFSETTO:-0600
TZNAME:MDT
DTSTART:20170312T090000
END:DAYLIGHT
BEGIN:STANDARD
TZOFFSETFROM:-0600
TZOFFSETTO:-0700
TZNAME:MST
DTSTART:20171105T080000
END:STANDARD
BEGIN:DAYLIGHT
TZOFFSETFROM:-0700
TZOFFSETTO:-0600
TZNAME:MDT
DTSTART:20180311T090000
END:DAYLIGHT
BEGIN:STANDARD
TZOFFSETFROM:-0600
TZOFFSETTO:-0700
TZNAME:MST
DTSTART:20181104T080000
END:STANDARD
BEGIN:DAYLIGHT
TZOFFSETFROM:-0700
TZOFFSETTO:-0600
TZNAME:MDT
DTSTART:20190310T090000
END:DAYLIGHT
BEGIN:STANDARD
TZOFFSETFROM:-0600
TZOFFSETTO:-0700
TZNAME:MST
DTSTART:20191103T080000
END:STANDARD
BEGIN:DAYLIGHT
TZOFFSETFROM:-0700
TZOFFSETTO:-0600
TZNAME:MDT
DTSTART:20200308T090000
END:DAYLIGHT
BEGIN:STANDARD
TZOFFSETFROM:-0600
TZOFFSETTO:-0700
TZNAME:MST
DTSTART:20201101T080000
END:STANDARD
BEGIN:DAYLIGHT
TZOFFSETFROM:-0700
TZOFFSETTO:-0600
TZNAME:MDT
DTSTART:20210314T090000
END:DAYLIGHT
BEGIN:STANDARD
TZOFFSETFROM:-0600
TZOFFSETTO:-0700
TZNAME:MST
DTSTART:20211107T080000
END:STANDARD
BEGIN:DAYLIGHT
TZOFFSETFROM:-0700
TZOFFSETTO:-0600
TZNAME:MDT
DTSTART:20220313T090000
END:DAYLIGHT
BEGIN:STANDARD
TZOFFSETFROM:-0600
TZOFFSETTO:-0700
TZNAME:MST
DTSTART:20221106T080000
END:STANDARD
BEGIN:DAYLIGHT
TZOFFSETFROM:-0700
TZOFFSETTO:-0600
TZNAME:MDT
DTSTART:20230312T090000
END:DAYLIGHT
BEGIN:STANDARD
TZOFFSETFROM:-0600
TZOFFSETTO:-0700
TZNAME:MST
DTSTART:20231105T080000
END:STANDARD
BEGIN:DAYLIGHT
TZOFFSETFROM:-0700
TZOFFSETTO:-0600
TZNAME:MDT
DTSTART:20240310T090000
END:DAYLIGHT
BEGIN:STANDARD
TZOFFSETFROM:-0600
TZOFFSETTO:-0700
TZNAME:MST
DTSTART:20241103T080000
END:STANDARD
BEGIN:DAYLIGHT
TZOFFSETFROM:-0700
TZOFFSETTO:-0600
TZNAME:MDT
DTSTART:20250309T090000
END:DAYLIGHT
BEGIN:STANDARD
TZOFFSETFROM:-0600
TZOFFSETTO:-0700
TZNAME:MST
DTSTART:20251102T080000
END:STANDARD
BEGIN:DAYLIGHT
TZOFFSETFROM:-0700
TZOFFSETTO:-0600
TZNAME:MDT
DTSTART:20260308T090000
END:DAYLIGHT
BEGIN:STANDARD
TZOFFSETFROM:-0600
TZOFFSETTO:-0700
TZNAME:MST
DTSTART:20261101T080000
END:STANDARD
END:VTIMEZONE
BEGIN:VEVENT
DTSTART;TZID=America/Denver:20250220T180000
DTEND;TZID=America/Denver:20250220T203000
DTSTAMP:20260419T165653
CREATED:20250131T181856Z
LAST-MODIFIED:20250201T024510Z
UID:6734-1740074400-1740083400@www.nmbmwcca.org
SUMMARY:Feb 2025 NM Chapter Dinner in Bernalillo & Tech Session
DESCRIPTION:Join the BMW Car Club of America New Mexico Chapter for a fun evening of great food\, drinks\, and car talk at Bosque Brewing North on Thursday\, February 20th\, at 6 pm! The restaurant is located at 834 US-550 in Bernalillo\, NM. Following dinner\, we will convoy for the short trip to Jim Levandoski’s garage in Placitas for a Garage Night Technical Session on rebuilding an automatic transmission\, INPA and Foxwell scan tool operation to diagnose your BMW and a discussion on prepping/painting your car. \nJim Levandoski\, New Mexico Chapter Vice President\, has been a member of the BMW Car Club of America since 2000. He is originally from the Boston area where he was an active member of the Boston Chapter and a judge at many of the BMW Concours events. He was also and remains a moderator on Bimmerforums.com. Jim has an E39 540 with a manual 6-speed that he has extensively modified and maintains himself. Jim has conducted a “Garage Day” for the NM Chapter and published “Nitrous Oxide Bimmer“\, a BimmerLife article on the modifications he made to his E39. \nHelp us ensure adequate seating. Please RSVP with the number of attendees and their names below by clicking the blue “Going” button below.
URL:https://www.nmbmwcca.org/event/feb-2025-nm-chapter-dinner-in-bernalillo-tech-session/
LOCATION:Bosque Brewing North\, 834 US-550\, Bernalillo\, New Mexico\, 87004
CATEGORIES:Social Event,Tech Session
ATTACH;FMTTYPE=image/jpeg:https://www.nmbmwcca.org/wp-content/uploads/2025/01/Bosque-north.jpg
ORGANIZER;CN="BMW CCA NM Chapter Vice President":MAILTO:vicepresident@nmbmwcca.org
END:VEVENT
BEGIN:VEVENT
DTSTART;TZID=America/Denver:20240608T100000
DTEND;TZID=America/Denver:20240608T150000
DTSTAMP:20260419T165653
CREATED:20240601T034220Z
LAST-MODIFIED:20240601T034220Z
UID:6213-1717840800-1717858800@www.nmbmwcca.org
SUMMARY:BMW Tech Session in Santa Fe
DESCRIPTION:On Saturday\, June 8\, 2024\, join the BMW Car Club of America New Mexico Chapter for a Tech Session at Phil Undercuffler’s shop\, where we’ll learn tips and tricks for performing basic maintenance for your BMW following Mike Miller’s “Old School” service recommendations. We’ll be walking through the steps required to perform a valve clearance adjustment on multiple different BMW engines as well as performing an oil change and mechanical inspection. Meet at 7505 Mallard Way near Santa Fe Spirits Distillery at 10 am sharp\, and we’ll walk from there a short distance to Phil’s shop. Bring your technical questions!  Afterwards we’ll take a celebratory drive down New Mexico 14 for a no-host lunch at the Highway 14 Headquarters of Beer Creek Brewing Company.
URL:https://www.nmbmwcca.org/event/bmw-tech-session-in-santa-fe/
LOCATION:Phil Undercuffler’s Shop\, 7505 Mallard Way\, Santa Fe\, New Mexico\, 87507
CATEGORIES:Driving Event,Tech Session
ATTACH;FMTTYPE=image/jpeg:https://www.nmbmwcca.org/wp-content/uploads/2024/05/20170521.SandiaBMWSpringFiesta-34.jpg
ORGANIZER;CN="BMW CCA New Mexico Chapter":MAILTO:president@nmbmwcca.org
END:VEVENT
BEGIN:VEVENT
DTSTART;TZID=America/Denver:20240215T180000
DTEND;TZID=America/Denver:20240215T200000
DTSTAMP:20260419T165653
CREATED:20240205T183026Z
LAST-MODIFIED:20240205T183026Z
UID:6025-1708020000-1708027200@www.nmbmwcca.org
SUMMARY:February 2024 Annual Meeting and Sandia BMW Tech Session
DESCRIPTION:Join the BMW Car Club of America New Mexico Chapter for the Annual Membership Meeting and elections on Thursday\, February 15\, 2024 at 6:00 pm. Chapter President Phil Undercuffler will provide an overview of last year’s activities and there will an election for Chapter Officers and Board Members. You must be a member of the BMW CCA to serve as a Chapter Officer\, Board Member or to vote. Please consider serving! \nThe event will be hosted by Sandia BMW in the conference room of their Service Center behind the dealership at 6001 Pan American Fwy NE in Albuquerque. Sandia BMW will be providing pizza and they will have people available to answer our BMW related questions\, plus they are sure to have something interesting on the lifts!
URL:https://www.nmbmwcca.org/event/february-2024-annual-meeting-and-sandia-bmw-tech-session/
LOCATION:Sandia BMW\, 6001 Pan American Frwy. NE\, Albuquerque\, New Mexico\, 87109
CATEGORIES:Membership Meeting,Tech Session
ATTACH;FMTTYPE=image/jpeg:https://www.nmbmwcca.org/wp-content/uploads/2024/02/SandiaBMW_Mt_Logo_500.jpg
ORGANIZER;CN="BMW CCA New Mexico Chapter":MAILTO:president@nmbmwcca.org
END:VEVENT
BEGIN:VEVENT
DTSTART;TZID=America/Denver:20231109T180000
DTEND;TZID=America/Denver:20231109T180000
DTSTAMP:20260419T165653
CREATED:20230828T173029Z
LAST-MODIFIED:20230907T014553Z
UID:5788-1699552800-1699552800@www.nmbmwcca.org
SUMMARY:Tech Session at Hans Wittler’s Automotive Northside (Rescheduled)
DESCRIPTION:Join the BMW Car Club of America New Mexico Chapter for a Tech Session at Hans Wittler’s Automotive Northside (5701 Wilshire Ave NE in Albuquerque) on Thursday evening\, November 9\, 2023 at 6 pm (originally scheduled for September 21st).  Andreas Wittler will be talking about using the factory ISTA software for diagnosing BMW cars. He will have several different real world examples of what it takes to diagnose these complex electrical systems. Andreas will also give a talk about the new electric vehicles that are coming down the pipe line. Pizza will be provided by the NM Chapter. \nHans Wittler and his wife Christel immigrated from Germany to the United States in 1958 to start a new life. While Hans was a factory trained technician\, he found the dealership way of business was not to his standards. So in 1975\, Hans and Christel opened Hans Wittler Automotive and offered high quality service for German automobiles in Albuquerque. \nOver the years\, Hans’ two sons\, Roger and Andreas worked with their father to learn the ins and outs of German engineering and eventually took over the business in 1999. The business continued to grow and needed additional space. In 2019 Hans Wittler Automotive opened a second location on the north side of town to better service its expanding list of customers. Today\, it continues to be a family-run business as Roger oversees the Eastside Elizabeth location (Near I-40 and Juan Tabo) while Andreas manages the Northside Wilshire location (Near I-25 and Alameda).
URL:https://www.nmbmwcca.org/event/tech-session-at-hans-wittlers-automotive-northside/
LOCATION:Hans Wittler’s Automotive Northside\, 5701 Wilshire Ave NE\, Albuquerque\, New Mexico\, 87113
CATEGORIES:Tech Session
ATTACH;FMTTYPE=image/jpeg:https://www.nmbmwcca.org/wp-content/uploads/2023/08/HansWittlerAutoLogo2.jpg
ORGANIZER;CN="BMW CCA New Mexico Chapter":MAILTO:president@nmbmwcca.org
END:VEVENT
BEGIN:VEVENT
DTSTART;TZID=America/Denver:20221217T101500
DTEND;TZID=America/Denver:20221217T150000
DTSTAMP:20260419T165653
CREATED:20221203T224323Z
LAST-MODIFIED:20221203T224323Z
UID:5214-1671272100-1671289200@www.nmbmwcca.org
SUMMARY:Chapter Lunch at the Placitas Café
DESCRIPTION:Join the BMW Car Club of America New Mexico Chapter for lunch at the Placitas Cafe in Placitas\, NM on Saturday\, December 17\, 2022. We will meet at Sandia BMW Wheels and Coffee\, 6001 Pan American Fwy in Albuquerque. Gather inside the dealership at 10:15 am and we will depart at 10:30 am for the drive to Placitas via NM 313 on the El Camino Real National Scenic Byway to Bernalillo. Please RVSP for lunch to vicepresident@nmbmwcca.org. \nAfter lunch\, Chapter Vice President Jim Levandoski will show at his nearby Placitas home how a BMW VANOS works to advance/retard camshafts. Jim rebuilds them for E39s. He will also provide an update of his ’33 Ford Hot Rod build in progress and if time permits\, provide a quick “how-to” demo of the INPA BMW diagnostic tool connected to his 540.
URL:https://www.nmbmwcca.org/event/chapter-lunch-at-the-placitas-cafe/
LOCATION:Placitas Cafe\, 9514\, 221 NM-165\, Placitas\, NM\, 87043
CATEGORIES:Driving Event,Social Event,Tech Session
ATTACH;FMTTYPE=image/jpeg:https://www.nmbmwcca.org/wp-content/uploads/2022/12/Placitas-Cafe-Mural.jpg
ORGANIZER;CN="BMW CCA New Mexico Chapter":MAILTO:president@nmbmwcca.org
END:VEVENT
BEGIN:VEVENT
DTSTART;TZID=America/Denver:20221117T183000
DTEND;TZID=America/Denver:20221117T203000
DTSTAMP:20260419T165653
CREATED:20221109T181240Z
LAST-MODIFIED:20221109T181240Z
UID:5170-1668709800-1668717000@www.nmbmwcca.org
SUMMARY:Nov 2022 Tech Session at Sandia BMW
DESCRIPTION:Join the BMW Car Club of America New Mexico Chapter for a Tech Session at Sandia BMW\, 6001 Pan American Fwy in Albuquerque on Thursday\, November 17\, 2022 at 6:30 pm. We will hear about current and future M cars as well as BMW electrification and technology trends. In any case\, there is sure to be something interesting up on a lift for all to ponder. Pizza and drinks will be served. Look for us in the service building west of the main sales showroom.
URL:https://www.nmbmwcca.org/event/nov-2022-tech-session-at-sandia-bmw/
LOCATION:Sandia BMW\, 6001 Pan American Frwy. NE\, Albuquerque\, New Mexico\, 87109
CATEGORIES:Tech Session
ATTACH;FMTTYPE=image/jpeg:https://www.nmbmwcca.org/wp-content/uploads/2020/07/SandiaBMW_MtLogo.jpg
ORGANIZER;CN="BMW CCA New Mexico Chapter":MAILTO:president@nmbmwcca.org
END:VEVENT
BEGIN:VEVENT
DTSTART;TZID=America/Denver:20200213T180000
DTEND;TZID=America/Denver:20200213T200000
DTSTAMP:20260419T165653
CREATED:20200201T230844Z
LAST-MODIFIED:20200730T220959Z
UID:2686-1581616800-1581624000@www.nmbmwcca.org
SUMMARY:February 2020 Sandia BMW Tech Session and Annual Membership Meeting
DESCRIPTION:There will be a NM BMW CCA Sandia BMW Tech Session and Annual Membership Meeting on Thursday\, February 13\, 2020 at 6:00 pm at Sandía BMW\, 6001 Pan American Fwy. NE\, Albuquerque. Join us for a presentation by Sandia BMW Service Director Chad Fiebiger\, new Shop Foreman Drew Wolfe and a BMW Genius on hand to answer your questions. There will be lots to see and learn\, plus we will have plenty of pizza! \nThe focus of Thursday’s session will be advances in new BMW technology. The biggest changes going on right now with BMW are not limited to new engines or hybrid and electric technology\, but rather with the way the owner interacts with the vehicle\, and how the vehicle interacts with the dealer and BMW NA. They will have a BMW Genius present some of these new technologies\, explain a little about them\, how they benefit you the owner\, answer questions\, and talk about other advancements coming in the very near future. \nChad will also have a few of the new models in the shop and up on the rack for the club to interact with and get a good look at – he anticipates having at least a Z4\, X7\, M2\, and possibly M8 for this session. Of course\, these are some of BMW’s most sought-after vehicles\, so availability can always change on a moment’s notice if someone drives off with a shiny new acquisition. Don’t miss this opportunity to get hands-on before that happens! \nThis is also our Annual Meeting with elections for President\, Vice President\, Secretary\, Treasurer and Members at Large. Please consider serving on the Board of the New Mexico Chapter – we would welcome your voice and BMW passion in guiding our chapter through the new year! Note that you must be a current member of the BMW CCA to serve. \nContact for this event will be Jon van Arsdel\, president@nmbmwcca.org
URL:https://www.nmbmwcca.org/event/february-2020-sandia-bmw-tech-session-and-annual-membership-meeting/
LOCATION:Sandia BMW\, 6001 Pan American Frwy. NE\, Albuquerque\, New Mexico\, 87109
CATEGORIES:Tech Session
ATTACH;FMTTYPE=image/jpeg:https://www.nmbmwcca.org/wp-content/uploads/2020/01/BMW-Technology.jpg
END:VEVENT
BEGIN:VEVENT
DTSTART;TZID=America/Denver:20190718T180000
DTEND;TZID=America/Denver:20190718T200000
DTSTAMP:20260419T165653
CREATED:20200731T154535Z
LAST-MODIFIED:20200731T164930Z
UID:2712-1563472800-1563480000@www.nmbmwcca.org
SUMMARY:July 2019 Tech Session - Loid's Collision Center
DESCRIPTION:New Mexico Chapter\nBMW Car Club of America \nTech Session\nLoid’s Collision Center\nThursday\, July 18\, 2019\, 6:00 pm\nIncrease your BMW knowledge at a BMW-certified facility!
URL:https://www.nmbmwcca.org/event/july-2019-tech-session-loids-collision-center/
LOCATION:New Mexico
CATEGORIES:Tech Session
ATTACH;FMTTYPE=image/png:https://www.nmbmwcca.org/wp-content/uploads/2019/06/Loids-logo.png
END:VEVENT
BEGIN:VEVENT
DTSTART;TZID=America/Denver:20190221T180000
DTEND;TZID=America/Denver:20190221T200000
DTSTAMP:20260419T165653
CREATED:20200731T154538Z
LAST-MODIFIED:20200731T172021Z
UID:2719-1550772000-1550779200@www.nmbmwcca.org
SUMMARY:February 2019 Annual Meeting and Sandia BMW Tech Session.
DESCRIPTION:FEBRUARY 2019 Sandia BMW Tech Session\nWHEN: February 21\, 2019 at 6.00pm.\nWHERE: Sandia BMW in Albuquerque \nJoin us for our 2019 Tech Session at Sandia BMW Thursday\, February 21st\, 2019 at 6:00 pm. \nSandia BMW will once again open the facility to us for education and enjoyment. \nThis meeting will also be the official Annual Meeting\, and will include election of Club officials; there are numerous positions open\, so please volunteer if you have an interest and please come and vote for your favorite candidate. \nThe NM Chapter will provide refreshments and beverages. \nNo RSVP is needed.
URL:https://www.nmbmwcca.org/event/february-2019-annual-meeting-and-sandia-bmw-tech-session/
LOCATION:Sandia BMW\, 6001 Pan American Frwy. NE\, Albuquerque\, New Mexico\, 87109
CATEGORIES:Membership Meeting,Tech Session
ATTACH;FMTTYPE=image/jpeg:https://www.nmbmwcca.org/wp-content/uploads/2020/07/SandiaBMW_MtLogo.jpg
END:VEVENT
BEGIN:VEVENT
DTSTART;TZID=America/Denver:20180628T180000
DTEND;TZID=America/Denver:20180628T200000
DTSTAMP:20260419T165653
CREATED:20180602T172148Z
LAST-MODIFIED:20200802T223326Z
UID:2771-1530208800-1530216000@www.nmbmwcca.org
SUMMARY:June 2018 Tech Session at Loid's Collision
DESCRIPTION:2018 Loid’s Collision Center Tech Session\nWHEN: Thursday June 28th at 6pm.\nWHERE: Loid’s Collision Center in Albuquerque\n             5401 San Diego Ave NE\, Albuquerque\, NM 87113 \nJoin us for the Loid’s Collision Center Tech Session hosted by Chris Loidolt. \nThe NM Chapter will provide refreshments and beverages. \nOn San Diego Avenue near the Balloon Fiesta Park.  From San Mateo and Alameda head north on San Mateo 4 streets and turn right.  From Roy(Tramway) and I-25 Frontage Rd (Pan American Fwy NE) head south along frontage road 5 streets and turn right.  Loid’s Center is on the north side of the road\, between San Mateo and Pan American Fwy NE. \nNo RSVP is needed.
URL:https://www.nmbmwcca.org/event/june-2018-tech-session-at-loids-collision/
LOCATION:Loid’s Collision Center\, 5401 San Diego Ave NE\, Albuquerque\, NM\, 87113\, United States
CATEGORIES:Tech Session
ATTACH;FMTTYPE=image/png:https://www.nmbmwcca.org/wp-content/uploads/2019/06/Loids-logo.png
END:VEVENT
BEGIN:VEVENT
DTSTART;TZID=America/Denver:20180322T180000
DTEND;TZID=America/Denver:20180322T200000
DTSTAMP:20260419T165653
CREATED:20180302T182157Z
LAST-MODIFIED:20200802T225427Z
UID:2776-1521741600-1521748800@www.nmbmwcca.org
SUMMARY:March 2018 Southwest Collision Craftsmen Tech Session
DESCRIPTION:Manny Cordova at Southwest Collision Craftsmen will host his 2018 tech session at 6pm on Thursday the 22nd of March.\n 
URL:https://www.nmbmwcca.org/event/march-2018-southwest-collision-craftsmen-tech-session/
LOCATION:Southwest Collision Craftsmen\, 3401 Claremont Ave NE\, Albuquerque\, NM\, 87107\, United States
CATEGORIES:Tech Session
ATTACH;FMTTYPE=image/jpeg:https://www.nmbmwcca.org/wp-content/uploads/2020/08/SouthwestCollisionCraftsmenInc.jpeg
END:VEVENT
BEGIN:VEVENT
DTSTART;TZID=America/Denver:20180215T180000
DTEND;TZID=America/Denver:20180215T200000
DTSTAMP:20260419T165653
CREATED:20180202T182157Z
LAST-MODIFIED:20200803T004004Z
UID:2777-1518717600-1518724800@www.nmbmwcca.org
SUMMARY:February 2018 Sandia BMW Tech Session and Annual Meeting
DESCRIPTION:FEBRUARY Sandia BMW Tech Session\nWHEN: February 15th at 6.00pm.\nWHERE: Sandia BMW in Albuquerque \nJoin us for our 2018 Tech Session at Sandia BMW Sunday\, February 15th. \nJeff Reece will once again open his facility to us for education and enjoyment. \nThis meeting will also be the official Annual Meeting\, to include election of Club officials; please come and vote for (or against) your favorite candidate. \nJeff Reece is the Service Director at Sandía BMW. Topics to be added later. \nThe NM Chapter will provide refreshments and beverages. \nNo RSVP is needed.
URL:https://www.nmbmwcca.org/event/february-2018-sandia-bmw-tech-session-and-annual-meeting/
LOCATION:Sandia BMW\, 6001 Pan American Frwy. NE\, Albuquerque\, New Mexico\, 87109
CATEGORIES:Membership Meeting,Tech Session
ATTACH;FMTTYPE=image/jpeg:https://www.nmbmwcca.org/wp-content/uploads/2020/07/SandiaBMW_MtLogo.jpg
END:VEVENT
BEGIN:VEVENT
DTSTART;TZID=America/Denver:20170713T173000
DTEND;TZID=America/Denver:20170713T183000
DTSTAMP:20260419T165653
CREATED:20170703T022135Z
LAST-MODIFIED:20200803T222057Z
UID:2824-1499967000-1499970600@www.nmbmwcca.org
SUMMARY:July 2017 Tech Session at AWRS of NM Wheel Repair
DESCRIPTION:JULY Tech Session\nWHEN: July 13th 5.30 pm-6.30 pm.\nWHERE:\nAlloy Wheel Repair Specialists of NM\n3300 Princeton Dr NE\, Albuquerque\, NM 87107 (Suite 22) \nOne lucky member will have a wheel repaired for free! \nThe facility is in an industrial area on the north side of Princeton NE\, just north of Candelaria NE. There is plenty of parking at the building. There is a large sign with the number 3300 on it. \nCheck them out at AWRS. Phone: 505-250-1979. \n 
URL:https://www.nmbmwcca.org/event/july-2017-tech-session-at-awrs-of-nm-wheel-repair/
LOCATION:New Mexico
CATEGORIES:Tech Session
ATTACH;FMTTYPE=image/jpeg:https://www.nmbmwcca.org/wp-content/uploads/2020/08/AWRS_Logo.jpg
END:VEVENT
BEGIN:VEVENT
DTSTART;TZID=America/Denver:20170610T100000
DTEND;TZID=America/Denver:20170610T120000
DTSTAMP:20260419T165653
CREATED:20170603T022142Z
LAST-MODIFIED:20200803T223549Z
UID:2827-1497088800-1497096000@www.nmbmwcca.org
SUMMARY:June 2017 Tech Session at Santa Fe BMW
DESCRIPTION:Andy Caperones at Santa Fé BMW will host the 2017 tech session at 10 am on Saturday the 10th of June.\nAlbuquerque area drivers can meet at the Bernalillo Rail Runner upper parking lot at 9:00 am to caravan to Santa Fe\, led by Jon van Arsdel. \nThis Saturday is also scheduled as a regular Santa Fe BMW Wheels & Coffee event\, which starts at 9:00 am.
URL:https://www.nmbmwcca.org/event/june-2017-tech-session-at-santa-fe-bmw/
LOCATION:Santa Fé BMW\, 2578 Camino Entrada\, Santa Fe\, NM\, 87507\, United States
CATEGORIES:Tech Session
ATTACH;FMTTYPE=image/jpeg:https://www.nmbmwcca.org/wp-content/uploads/2020/08/Santa-Fe-BMW-logo.jpg
END:VEVENT
BEGIN:VEVENT
DTSTART;TZID=America/Denver:20170316T180000
DTEND;TZID=America/Denver:20170316T200000
DTSTAMP:20260419T165653
CREATED:20170303T032146Z
LAST-MODIFIED:20200804T025310Z
UID:2832-1489687200-1489694400@www.nmbmwcca.org
SUMMARY:March 2017 Tech Session at Southwest Collision Craftsmen
DESCRIPTION:Manny Cordova at Southwest Collision Craftsmen will host his 2017 tech session at 6 pm on Thursday the 16th of March.\n 
URL:https://www.nmbmwcca.org/event/march-2017-tech-session-at-southwest-collision-craftsmen/
LOCATION:Southwest Collision Craftsmen\, 3401 Claremont Ave NE\, Albuquerque\, NM\, 87107\, United States
CATEGORIES:Tech Session
ATTACH;FMTTYPE=image/jpeg:https://www.nmbmwcca.org/wp-content/uploads/2020/08/SouthwestCollisionCraftsmenInc.jpeg
END:VEVENT
BEGIN:VEVENT
DTSTART;TZID=America/Denver:20170223T180000
DTEND;TZID=America/Denver:20170223T200000
DTSTAMP:20260419T165653
CREATED:20170203T032146Z
LAST-MODIFIED:20200804T025840Z
UID:2833-1487872800-1487880000@www.nmbmwcca.org
SUMMARY:Febuary 2017 Sandia BMW Tech Session and Annual Meeting
DESCRIPTION:FEBRUARY Sandia BMW Tech Session\nWHEN: February 23rd at 6.00pm.\nWHERE: Sandia BMW in Albuquerque \nJoin us for our 2017 Tech Session at Sandia BMW Sunday\, February 23rd. \nJeff Reece will once again open his facility to us for education and enjoyment. \nThis meeting will also: \ni)  be the official Annual Meeting\, to include election of Club officials;\nii) discussion on the proposed bylaws (see these at https://www.nmbmwcca.org/club-information/bylaws/). \nJeff Reece is the Service Director at Sandía BMW\, and will be doing a presentation on the all new G30 5-Series cars.  The new 530i and 540i are now available\, and creating a lot of excitement in the automotive press.  They are just now starting to arrive at the dealership. \nThe NM Chapter will provide refreshments and beverages. \nNo RSVP is needed.
URL:https://www.nmbmwcca.org/event/febuary-2017-sandia-bmw-tech-session-and-annual-meeting/
LOCATION:Sandia BMW\, 6001 Pan American Frwy. NE\, Albuquerque\, New Mexico\, 87109
CATEGORIES:Tech Session
ATTACH;FMTTYPE=image/jpeg:https://www.nmbmwcca.org/wp-content/uploads/2020/07/SandiaBMW_MtLogo.jpg
END:VEVENT
BEGIN:VEVENT
DTSTART;TZID=America/Denver:20160910T100000
DTEND;TZID=America/Denver:20160910T120000
DTSTAMP:20260419T165653
CREATED:20160803T022150Z
LAST-MODIFIED:20200804T034450Z
UID:2839-1473501600-1473508800@www.nmbmwcca.org
SUMMARY:September 2016 Tech Session at Santa Fe BWM
DESCRIPTION:Andy Caperones at Santa Fé BMW will host the 2016 tech session at 10 am on Saturday the 10th of September.\nAlbuquerque area drivers can meet at Sandia BMW at 9:00 am to caravan to Santa Fe\, led by Jon van Arsdel. \nThis Saturday is also scheduled as a regular Santa Fe BMW Wheels & Coffee event\, which starts at 9:00am.
URL:https://www.nmbmwcca.org/event/september-2016-tech-session-at-santa-fe-bwm/
LOCATION:Santa Fé BMW\, 2578 Camino Entrada\, Santa Fe\, NM\, 87507\, United States
CATEGORIES:Tech Session
ATTACH;FMTTYPE=image/jpeg:https://www.nmbmwcca.org/wp-content/uploads/2020/08/Santa-Fe-BMW-logo.jpg
END:VEVENT
END:VCALENDAR