BEGIN:VCALENDAR
VERSION:2.0
PRODID:-//New Mexico Chapter of the BMW CCA - ECPv6.15.20//NONSGML v1.0//EN
CALSCALE:GREGORIAN
METHOD:PUBLISH
X-WR-CALNAME:New Mexico Chapter of the BMW CCA
X-ORIGINAL-URL:https://www.nmbmwcca.org
X-WR-CALDESC:Events for New Mexico Chapter of the BMW CCA
REFRESH-INTERVAL;VALUE=DURATION:PT1H
X-Robots-Tag:noindex
X-PUBLISHED-TTL:PT1H
BEGIN:VTIMEZONE
TZID:America/Denver
BEGIN:DAYLIGHT
TZOFFSETFROM:-0700
TZOFFSETTO:-0600
TZNAME:MDT
DTSTART:20230312T090000
END:DAYLIGHT
BEGIN:STANDARD
TZOFFSETFROM:-0600
TZOFFSETTO:-0700
TZNAME:MST
DTSTART:20231105T080000
END:STANDARD
BEGIN:DAYLIGHT
TZOFFSETFROM:-0700
TZOFFSETTO:-0600
TZNAME:MDT
DTSTART:20240310T090000
END:DAYLIGHT
BEGIN:STANDARD
TZOFFSETFROM:-0600
TZOFFSETTO:-0700
TZNAME:MST
DTSTART:20241103T080000
END:STANDARD
BEGIN:DAYLIGHT
TZOFFSETFROM:-0700
TZOFFSETTO:-0600
TZNAME:MDT
DTSTART:20250309T090000
END:DAYLIGHT
BEGIN:STANDARD
TZOFFSETFROM:-0600
TZOFFSETTO:-0700
TZNAME:MST
DTSTART:20251102T080000
END:STANDARD
END:VTIMEZONE
BEGIN:VEVENT
DTSTART;TZID=America/Denver:20240608T100000
DTEND;TZID=America/Denver:20240608T150000
DTSTAMP:20260421T035111
CREATED:20240601T034220Z
LAST-MODIFIED:20240601T034220Z
UID:6213-1717840800-1717858800@www.nmbmwcca.org
SUMMARY:BMW Tech Session in Santa Fe
DESCRIPTION:On Saturday\, June 8\, 2024\, join the BMW Car Club of America New Mexico Chapter for a Tech Session at Phil Undercuffler’s shop\, where we’ll learn tips and tricks for performing basic maintenance for your BMW following Mike Miller’s “Old School” service recommendations. We’ll be walking through the steps required to perform a valve clearance adjustment on multiple different BMW engines as well as performing an oil change and mechanical inspection. Meet at 7505 Mallard Way near Santa Fe Spirits Distillery at 10 am sharp\, and we’ll walk from there a short distance to Phil’s shop. Bring your technical questions!  Afterwards we’ll take a celebratory drive down New Mexico 14 for a no-host lunch at the Highway 14 Headquarters of Beer Creek Brewing Company.
URL:https://www.nmbmwcca.org/event/bmw-tech-session-in-santa-fe/
LOCATION:Phil Undercuffler’s Shop\, 7505 Mallard Way\, Santa Fe\, New Mexico\, 87507
CATEGORIES:Driving Event,Tech Session
ATTACH;FMTTYPE=image/jpeg:https://www.nmbmwcca.org/wp-content/uploads/2024/05/20170521.SandiaBMWSpringFiesta-34.jpg
ORGANIZER;CN="BMW CCA New Mexico Chapter":MAILTO:president@nmbmwcca.org
END:VEVENT
END:VCALENDAR