BEGIN:VCALENDAR
VERSION:2.0
PRODID:-//New Mexico Chapter of the BMW CCA - ECPv6.15.20//NONSGML v1.0//EN
CALSCALE:GREGORIAN
METHOD:PUBLISH
X-WR-CALNAME:New Mexico Chapter of the BMW CCA
X-ORIGINAL-URL:https://www.nmbmwcca.org
X-WR-CALDESC:Events for New Mexico Chapter of the BMW CCA
REFRESH-INTERVAL;VALUE=DURATION:PT1H
X-Robots-Tag:noindex
X-PUBLISHED-TTL:PT1H
BEGIN:VTIMEZONE
TZID:America/Denver
BEGIN:DAYLIGHT
TZOFFSETFROM:-0700
TZOFFSETTO:-0600
TZNAME:MDT
DTSTART:20240310T090000
END:DAYLIGHT
BEGIN:STANDARD
TZOFFSETFROM:-0600
TZOFFSETTO:-0700
TZNAME:MST
DTSTART:20241103T080000
END:STANDARD
BEGIN:DAYLIGHT
TZOFFSETFROM:-0700
TZOFFSETTO:-0600
TZNAME:MDT
DTSTART:20250309T090000
END:DAYLIGHT
BEGIN:STANDARD
TZOFFSETFROM:-0600
TZOFFSETTO:-0700
TZNAME:MST
DTSTART:20251102T080000
END:STANDARD
BEGIN:DAYLIGHT
TZOFFSETFROM:-0700
TZOFFSETTO:-0600
TZNAME:MDT
DTSTART:20260308T090000
END:DAYLIGHT
BEGIN:STANDARD
TZOFFSETFROM:-0600
TZOFFSETTO:-0700
TZNAME:MST
DTSTART:20261101T080000
END:STANDARD
END:VTIMEZONE
BEGIN:VEVENT
DTSTART;TZID=America/Denver:20250118T103000
DTEND;TZID=America/Denver:20250118T140000
DTSTAMP:20260420T181656
CREATED:20250103T165802Z
LAST-MODIFIED:20250103T165802Z
UID:6676-1737196200-1737208800@www.nmbmwcca.org
SUMMARY:2025 Annual Membership Meeting at The Pizza Barn in Edgewood\, NM
DESCRIPTION:Join the BMW Car Club of America New Mexico Chapter for the 2025 Annual Membership Meeting and elections on Saturday\, January 18\, 2025. Meet at Sandia Wheels and Coffee at 10:30 am by the Sandia BMW service desk for an 11:00 am departure. From there we will drive to Edgewood via NM 333 on the Route 66 National Scenic Byway for lunch at the The Pizza Barn\, courtesy of the NM Chapter. \nChapter President Phil Undercuffler will provide an overview of last year’s activities\, discuss ideas for future events and there will an election for Chapter Officers and Board Members. You must be a member of the BMW CCA to serve as a Chapter Officer\, Board Member or to vote. Please come and consider serving!
URL:https://www.nmbmwcca.org/event/2025-annual-membership-meeting-at-the-pizza-barn-in-edgewood-nm/
LOCATION:The Pizza Barn\, 11 Plaza Loop\, Edgewood\, New Mexico\, 87015
CATEGORIES:Membership Meeting,Social Event
ATTACH;FMTTYPE=image/jpeg:https://www.nmbmwcca.org/wp-content/uploads/2025/01/Pizza-Barn.jpg
ORGANIZER;CN="BMW CCA New Mexico Chapter":MAILTO:president@nmbmwcca.org
END:VEVENT
END:VCALENDAR