BEGIN:VCALENDAR
VERSION:2.0
PRODID:-//New Mexico Chapter of the BMW CCA - ECPv6.15.20//NONSGML v1.0//EN
CALSCALE:GREGORIAN
METHOD:PUBLISH
X-ORIGINAL-URL:https://www.nmbmwcca.org
X-WR-CALDESC:Events for New Mexico Chapter of the BMW CCA
REFRESH-INTERVAL;VALUE=DURATION:PT1H
X-Robots-Tag:noindex
X-PUBLISHED-TTL:PT1H
BEGIN:VTIMEZONE
TZID:America/Denver
BEGIN:DAYLIGHT
TZOFFSETFROM:-0700
TZOFFSETTO:-0600
TZNAME:MDT
DTSTART:20150308T090000
END:DAYLIGHT
BEGIN:STANDARD
TZOFFSETFROM:-0600
TZOFFSETTO:-0700
TZNAME:MST
DTSTART:20151101T080000
END:STANDARD
BEGIN:DAYLIGHT
TZOFFSETFROM:-0700
TZOFFSETTO:-0600
TZNAME:MDT
DTSTART:20160313T090000
END:DAYLIGHT
BEGIN:STANDARD
TZOFFSETFROM:-0600
TZOFFSETTO:-0700
TZNAME:MST
DTSTART:20161106T080000
END:STANDARD
BEGIN:DAYLIGHT
TZOFFSETFROM:-0700
TZOFFSETTO:-0600
TZNAME:MDT
DTSTART:20170312T090000
END:DAYLIGHT
BEGIN:STANDARD
TZOFFSETFROM:-0600
TZOFFSETTO:-0700
TZNAME:MST
DTSTART:20171105T080000
END:STANDARD
BEGIN:DAYLIGHT
TZOFFSETFROM:-0700
TZOFFSETTO:-0600
TZNAME:MDT
DTSTART:20180311T090000
END:DAYLIGHT
BEGIN:STANDARD
TZOFFSETFROM:-0600
TZOFFSETTO:-0700
TZNAME:MST
DTSTART:20181104T080000
END:STANDARD
BEGIN:DAYLIGHT
TZOFFSETFROM:-0700
TZOFFSETTO:-0600
TZNAME:MDT
DTSTART:20190310T090000
END:DAYLIGHT
BEGIN:STANDARD
TZOFFSETFROM:-0600
TZOFFSETTO:-0700
TZNAME:MST
DTSTART:20191103T080000
END:STANDARD
BEGIN:DAYLIGHT
TZOFFSETFROM:-0700
TZOFFSETTO:-0600
TZNAME:MDT
DTSTART:20200308T090000
END:DAYLIGHT
BEGIN:STANDARD
TZOFFSETFROM:-0600
TZOFFSETTO:-0700
TZNAME:MST
DTSTART:20201101T080000
END:STANDARD
BEGIN:DAYLIGHT
TZOFFSETFROM:-0700
TZOFFSETTO:-0600
TZNAME:MDT
DTSTART:20210314T090000
END:DAYLIGHT
BEGIN:STANDARD
TZOFFSETFROM:-0600
TZOFFSETTO:-0700
TZNAME:MST
DTSTART:20211107T080000
END:STANDARD
BEGIN:DAYLIGHT
TZOFFSETFROM:-0700
TZOFFSETTO:-0600
TZNAME:MDT
DTSTART:20220313T090000
END:DAYLIGHT
BEGIN:STANDARD
TZOFFSETFROM:-0600
TZOFFSETTO:-0700
TZNAME:MST
DTSTART:20221106T080000
END:STANDARD
BEGIN:DAYLIGHT
TZOFFSETFROM:-0700
TZOFFSETTO:-0600
TZNAME:MDT
DTSTART:20230312T090000
END:DAYLIGHT
BEGIN:STANDARD
TZOFFSETFROM:-0600
TZOFFSETTO:-0700
TZNAME:MST
DTSTART:20231105T080000
END:STANDARD
BEGIN:DAYLIGHT
TZOFFSETFROM:-0700
TZOFFSETTO:-0600
TZNAME:MDT
DTSTART:20240310T090000
END:DAYLIGHT
BEGIN:STANDARD
TZOFFSETFROM:-0600
TZOFFSETTO:-0700
TZNAME:MST
DTSTART:20241103T080000
END:STANDARD
BEGIN:DAYLIGHT
TZOFFSETFROM:-0700
TZOFFSETTO:-0600
TZNAME:MDT
DTSTART:20250309T090000
END:DAYLIGHT
BEGIN:STANDARD
TZOFFSETFROM:-0600
TZOFFSETTO:-0700
TZNAME:MST
DTSTART:20251102T080000
END:STANDARD
BEGIN:DAYLIGHT
TZOFFSETFROM:-0700
TZOFFSETTO:-0600
TZNAME:MDT
DTSTART:20260308T090000
END:DAYLIGHT
BEGIN:STANDARD
TZOFFSETFROM:-0600
TZOFFSETTO:-0700
TZNAME:MST
DTSTART:20261101T080000
END:STANDARD
END:VTIMEZONE
BEGIN:VEVENT
DTSTART;TZID=America/Denver:20251101T071500
DTEND;TZID=America/Denver:20251101T140000
DTSTAMP:20260419T201237
CREATED:20251021T172655Z
LAST-MODIFIED:20251021T175205Z
UID:7378-1761981300-1762005600@www.nmbmwcca.org
SUMMARY:Santa Fe Cars & Coffee
DESCRIPTION:Join the BMW Car Club of America New Mexico Chapter for a relaxed morning at Cars & Coffee Santa Fe on Saturday\, November 1\, 2025. The gathering takes place in the parking lot of the PERA building at 1120 Paseo de Peralta in Santa Fe. Cars begin arriving around 8 a.m. and the parking lot is often packed by 9 a.m.\n \nWe’ll meet at Santa Fe Brewing Company (37 Fire Place\, Santa Fe) at 7:15 a.m. to caravan to Cars & Coffee so our group can park together. Members are also welcome to arrive later\, though parking may be limited.\n \nAfter the event\, we’ll continue the day with a casual lunch or brewery visit—location to be determined based on group size and interest.
URL:https://www.nmbmwcca.org/event/santa-fe-cars-coffee/
LOCATION:Santa Fe Brewing Company\, 37 Fire Pl\, Santa Fe\, New Mexico\, 87508
CATEGORIES:Car Show,Social Event
ATTACH;FMTTYPE=image/jpeg:https://www.nmbmwcca.org/wp-content/uploads/2025/10/santa-fe-cars-and-coffee-logo.jpg
ORGANIZER;CN="BMW CCA NM Chapter DEC":MAILTO:dec@nmbmwcca.org
END:VEVENT
BEGIN:VEVENT
DTSTART;TZID=America/Denver:20250525T100000
DTEND;TZID=America/Denver:20250525T130000
DTSTAMP:20260419T201237
CREATED:20250327T193247Z
LAST-MODIFIED:20250327T193247Z
UID:6890-1748167200-1748178000@www.nmbmwcca.org
SUMMARY:2025 BMW Clean Car Show at the NM Veterans Memorial
DESCRIPTION:Come show off your clean BMW and support the New Mexico Veterans Memorial on Sunday\, May 25\, 2025 for the BMW Car Club of America New Mexico Chapter Clean Car Show. We will start at 10 am and finish by 1 pm. There will be no judging\, but we will have a People’s Choice competition\, so be sure to register with us when you come in. The winner will receive some awesome BMW swag. We will be in the North parking lot of the beautiful Veterans Park at 1100 Louisiana Blvd SE in Albuquerque. If you have a BMW ‘Z’\, look for the popular “Z Corral” in the NE corner of the parking lot. \nYou do not need to be a member of the BMW Car Club of America to participate\, nor is there a registration fee. However\, we do ask that you consider supporting the New Mexico Veterans Memorial in their efforts to help us remember and honor the many veterans who have made a difference serving our country. Cash donations are fine\, or you can make checks payable to the New Mexico Veterans Memorial\, Inc.\, a 501(c)(3) charitable organization.
URL:https://www.nmbmwcca.org/event/2025-bmw-clean-car-show-at-the-nm-veterans-memorial/
LOCATION:New Mexico Veterans Memorial\, 1100 Louisiana Blvd SE\, Albuquerque\, NM\, 87108
CATEGORIES:Car Show
ATTACH;FMTTYPE=image/jpeg:https://www.nmbmwcca.org/wp-content/uploads/2022/05/NM-Vets.jpg
ORGANIZER;CN="BMW CCA New Mexico Chapter":MAILTO:president@nmbmwcca.org
END:VEVENT
BEGIN:VEVENT
DTSTART;TZID=America/Denver:20240526T100000
DTEND;TZID=America/Denver:20240526T130000
DTSTAMP:20260419T201237
CREATED:20240501T153723Z
LAST-MODIFIED:20240501T153723Z
UID:6169-1716717600-1716728400@www.nmbmwcca.org
SUMMARY:2024 BMW Clean Car Show at the NM Veterans Memorial
DESCRIPTION:Come show off your clean BMW and support the New Mexico Veterans Memorial on Sunday\, May 26\, 2024 for the BMW Car Club of America New Mexico Chapter Clean Car Show. We will start at 10 am and finish by 1 pm. There will be no judging\, but we will have a People’s Choice competition\, so be sure to register with us when you come in. The winner will receive some awesome BMW swag. We will be in the North parking lot of the beautiful Veterans Park at 1100 Louisiana Blvd SE in Albuquerque. If you have a BMW ‘Z’\, look for the popular “Z Corral” in the NE corner of the parking lot. \nYou do not need to be a member of the BMW Car Club of America to participate\, nor is there a registration fee. However\, we do ask that you consider supporting the New Mexico Veterans Memorial in their efforts to help us remember and honor the many veterans who have made a difference serving our country. Cash donations are fine\, or you can make checks payable to the New Mexico Veterans Memorial\, Inc.\, a 501(c)(3) charitable organization.
URL:https://www.nmbmwcca.org/event/2024-bmw-clean-car-show-at-the-nm-veterans-memorial/
LOCATION:New Mexico Veterans Memorial\, 1100 Louisiana Blvd SE\, Albuquerque\, NM\, 87108
CATEGORIES:Car Show
ATTACH;FMTTYPE=image/jpeg:https://www.nmbmwcca.org/wp-content/uploads/2022/05/NM-Vets.jpg
ORGANIZER;CN="BMW CCA New Mexico Chapter":MAILTO:president@nmbmwcca.org
END:VEVENT
BEGIN:VEVENT
DTSTART;TZID=America/Denver:20230521T100000
DTEND;TZID=America/Denver:20230521T130000
DTSTAMP:20260419T201237
CREATED:20230125T183209Z
LAST-MODIFIED:20230217T180040Z
UID:5322-1684663200-1684674000@www.nmbmwcca.org
SUMMARY:BMW Clean Car Show at the NM Veterans Memorial
DESCRIPTION:Come show off your clean BMW and support the New Mexico Veterans Memorial on Sunday\, May 21\, 2023 for the BMW Car Club of America New Mexico Chapter Clean Car Show. We will start at 10 am and finish by 1 pm. There will not be judging\, but we will have a People’s Choice competition\, so be sure to register with us when you come in. The winner will receive some awesome BMW swag. We will be in the North parking lot of Veterans Park at 1100 Louisiana Blvd SE\, Albuquerque\, NM 87108. \nYou do not need to be a member of the BMW Car Club of America to participate\, nor is there a registration fee. However\, we do ask that you consider supporting the New Mexico Veterans Memorial in their efforts to help us remember and honor the many veterans who have made a difference serving our country. Cash donations are fine or you can make checks payable to the New Mexico Veterans Memorial Foundation\, a 501(c)(3) charitable organization.
URL:https://www.nmbmwcca.org/event/bmw-clean-car-show-at-the-nm-veterans-memorial-2/
LOCATION:New Mexico Veterans Memorial\, 1100 Louisiana Blvd SE\, Albuquerque\, NM\, 87108
CATEGORIES:Car Show
ATTACH;FMTTYPE=image/jpeg:https://www.nmbmwcca.org/wp-content/uploads/2022/05/NM-Vets.jpg
ORGANIZER;CN="BMW CCA New Mexico Chapter":MAILTO:president@nmbmwcca.org
END:VEVENT
BEGIN:VEVENT
DTSTART;TZID=America/Denver:20220522T100000
DTEND;TZID=America/Denver:20220522T130000
DTSTAMP:20260419T201237
CREATED:20220513T192906Z
LAST-MODIFIED:20220513T193023Z
UID:4800-1653213600-1653224400@www.nmbmwcca.org
SUMMARY:BMW Clean Car Show at the NM Veterans Memorial
DESCRIPTION:Come show off your clean BMW and support the New Mexico Veterans Memorial on Sunday\, May 22\, 2022 for the BMW Car Club of America New Mexico Chapter Clean Car Show. We will start at 10 am and finish by 1 pm. There will not be judging\, but we will have a People’s Choice competition\, so be sure to register with us when you come in. The winner will receive some awesome BMW swag that Chapter President Phil Undercuffler digs up. We will be in the North parking lot of Veterans Park at 1100 Louisiana Blvd SE\, Albuquerque\, NM 87108. \nYou do not need to be a member of the BMW Car Club of America to participate\, nor is there a registration fee. However\, we do ask that you consider supporting the New Mexico Veterans Memorial in their efforts to help us remember and honor the many veterans who have made a difference serving our country. Cash donations are fine or you can make checks payable to the New Mexico Veterans Memorial Foundation\, a 501(c)(3) charitable organization.
URL:https://www.nmbmwcca.org/event/bmw-clean-car-show-at-the-nm-veterans-memorial/
LOCATION:New Mexico Veterans Memorial\, 1100 Louisiana Blvd SE\, Albuquerque\, NM\, 87108
CATEGORIES:Car Show
ATTACH;FMTTYPE=image/jpeg:https://www.nmbmwcca.org/wp-content/uploads/2022/05/NM-Vets.jpg
ORGANIZER;CN="BMW CCA New Mexico Chapter":MAILTO:president@nmbmwcca.org
END:VEVENT
BEGIN:VEVENT
DTSTART;TZID=America/Denver:20200516T100000
DTEND;TZID=America/Denver:20200516T130000
DTSTAMP:20260419T201237
CREATED:20200307T205344Z
LAST-MODIFIED:20200730T195537Z
UID:2669-1589623200-1589634000@www.nmbmwcca.org
SUMMARY:2020 NM BMW CCA Spring Fiesta Clean Car Show - CANCELLED!
DESCRIPTION:The 2020 New Mexico BMW CCA Spring Fiesta and Clean Car Show will be held on May 16\, 2020 in conjunction with Sandia BMW’s Wheels and Coffee event. Bring your clean BMW or Mini! Sandia BMW will have an area set aside for us. \nEvent cancelled due to the global COVID-19 pandemic.
URL:https://www.nmbmwcca.org/event/2020-nm-bmw-cca-spring-fiesta-clean-car-show-cancelled/
LOCATION:Sandia BMW\, 6001 Pan American Frwy. NE\, Albuquerque\, New Mexico\, 87109
CATEGORIES:Car Show
ATTACH;FMTTYPE=image/jpeg:https://www.nmbmwcca.org/wp-content/uploads/2020/07/2016-Spring-Fiesta.jpg
END:VEVENT
BEGIN:VEVENT
DTSTART;TZID=America/Denver:20190921T080000
DTEND;TZID=America/Denver:20190921T160000
DTSTAMP:20260419T201237
CREATED:20200731T154527Z
LAST-MODIFIED:20200731T162008Z
UID:2709-1569052800-1569081600@www.nmbmwcca.org
SUMMARY:2019 Ski Santa Fe Car Show
DESCRIPTION:Santa Fé Ski Basin Car Show\nHosted by the Santa Fé Vintage Car Club.\nSaturday\, September 21\, at the Santa Fé Ski Area\, 11 a.m. to 3 p.m. \nMeet at Santa Fé BMW at 9:00 a.m. for coffee and snacks; 2578 Camino Entrada\, Santa Fé\, NM 87507.\nAn optional group will meet at 8:00 a.m. at Sandía BMW in Albuquerque.\nAt around 10:00 a.m.\, proceed to the ski area\, which is about 24 miles. We will have a designated parking area for the BMW CCA. There will be musical entertainment\, food\, and available chairlift rides.\nMore details here: https://skisantafe.com/event/ski-santa-fe-car-show-2/#.XYFVuflTlpg \nThe Eventmeister will be Richard Herrera. \nRichard sends the following additional information:\nEscape to the high country and see the fall colors! The Santa Fé Ski Basin will be hosting the Ski Santa Fé Car Show\, showcasing some classic and exotic automobiles with the fall foliage providing a colorful backdrop. The cars will be lining up right next to the chairlift. \nOther activities that day: Chairlift Rides available\, Disc Golf\, Live Music\, Beer Garden Coffee Bar and La Casa Café will also be open. \nLive Music Provided By: The Half Broke Horses\nPlaying a danceable blend of Honky Tonk and Americana. On the deck at La Casa Lodge from 11am – 3pm. \nThe Super Chief Quad Chairlift will be running from 10am – 3pm (weather dependent)\, last ride down at 3:30pm. The chair lift will be running all weekend. $12 for a one-way trip or $16 for a round trip. Buy your 2019/2020 season pass and ride the chair for FREE! \nThe Ski Santa Fé Sports Shop will be holding its annual sale with up to 60% off last season’s clothes and gear. Receive an extra 10% off your total purchase in the Sports Shop with your 2019/2020 Season Pass! \nPlease keep in mind: It will be fall in the high country. The Santa Fé Ski Basin is at nominally 9.300 feet above sea level. It is recommended you bring additional clothing for cooler weather. \nIn general\, the Ski Area is dog friendly. Please keep your pet on a leash and bring doggy poop bags and pick up after your pets. There may be as many dogs as people on the mountain. There are trails for walks as well as picknick benches near the parking lots in the trees. \nThe Ski Area is going to allow us to park together on the ski trail in front of the lodge as well! \nContact for this event will be Jon van Arsdel\, president@nmbmwcca.org
URL:https://www.nmbmwcca.org/event/2019-ski-santa-fe-car-show/
LOCATION:Santa Fé BMW\, 2578 Camino Entrada\, Santa Fe\, NM\, 87507\, United States
CATEGORIES:Car Show
ATTACH;FMTTYPE=image/png:https://www.nmbmwcca.org/wp-content/uploads/2020/07/Ski-Santa-Fe-Fall-Foilage.png
END:VEVENT
BEGIN:VEVENT
DTSTART;TZID=America/Denver:20190519T090000
DTEND;TZID=America/Denver:20190519T130000
DTSTAMP:20260419T201237
CREATED:20200731T154535Z
LAST-MODIFIED:20200731T165953Z
UID:2714-1558256400-1558270800@www.nmbmwcca.org
SUMMARY:2019 NM BMW CCA Spring Fiesta Clean Car Show
DESCRIPTION:The NM BMW CCA Spring Fiesta will be Sunday\, May 19\, 2019\, at Sandía BMW. This will include a Clean Car Show and a Barbeque.
URL:https://www.nmbmwcca.org/event/2019-nm-bmw-cca-spring-fiesta-clean-car-show/
LOCATION:Sandia BMW\, 6001 Pan American Frwy. NE\, Albuquerque\, New Mexico\, 87109
CATEGORIES:Car Show
ATTACH;FMTTYPE=image/jpeg:https://www.nmbmwcca.org/wp-content/uploads/2020/07/2016-Spring-Fiesta.jpg
END:VEVENT
BEGIN:VEVENT
DTSTART;TZID=America/Denver:20180506T090000
DTEND;TZID=America/Denver:20180506T130000
DTSTAMP:20260419T201237
CREATED:20180402T172152Z
LAST-MODIFIED:20200802T223701Z
UID:2773-1525597200-1525611600@www.nmbmwcca.org
SUMMARY:2018 NM BMW CCA Spring Fiesta Car Show
DESCRIPTION:MAY Spring Fiesta\nWHEN: Sunday May 6th at 9.00am.\nWHERE: Sandia BMW in Albuquerque \n\nJoin us for our Spring Fiesta at Sandia BMW Sunday\, May 5. We’ll get the party started around 9:00 with registration for the clean car show and judging by CCA and Jaguar Judges! There will be formal judging this year\, and we will also give a People’s Choice award – there will be prizes.  Please bring your car to the show\, even if you do not have time to fully detail it. \nRegistration will begin at 9:00 am\, and judging will begin at 10:00 am.  The barbecue will begin at 11:00 am.  The awards ceremony will be held at 12:00 pm.  The chairman for the car show will be el Presidente\, Jon van Arsdel. \nSpecial thanks to Jeff Reece (chef extraordinaire)\, who will once again serve up grilled items for our enjoyment\, and Sandía BMW for hosting the Fiesta\, and providing the barbecue lunch. \n 
URL:https://www.nmbmwcca.org/event/2018-nm-bmw-cca-spring-fiesta-car-show/
LOCATION:Sandia BMW\, 6001 Pan American Frwy. NE\, Albuquerque\, New Mexico\, 87109
CATEGORIES:Car Show
ATTACH;FMTTYPE=image/jpeg:https://www.nmbmwcca.org/wp-content/uploads/2020/07/2016-Spring-Fiesta.jpg
END:VEVENT
BEGIN:VEVENT
DTSTART;TZID=America/Denver:20170521T090000
DTEND;TZID=America/Denver:20170521T130000
DTSTAMP:20260419T201237
CREATED:20170503T022142Z
LAST-MODIFIED:20200804T015609Z
UID:2828-1495357200-1495371600@www.nmbmwcca.org
SUMMARY:2017 NM BMW CCA Spring Fiesta Clean Car Show
DESCRIPTION:MAY Spring Fiesta\nWHEN: May 21st at 9.00 am.\nWHERE: Sandia BMW in Albuquerque \n\nNOTE:  Entry is through the south entrance (2nd entrance)\, near the furniture store.  Due to construction\, the Spring Fiesta will be at the MINI dealership.  \n\nJoin us for our Spring Fiesta at Sandia BMW Sunday\, May 21. We’ll get the party started around 9:00 with registration for the clean car show and judging by CCA and Jaguar Judges! There will be formal judging this year\, and we will also give a People’s Choice award – there will be prizes.  Please bring your car to the show\, even if you do not have time to fully detail it. \nRegistration will begin at 9:00 am\, and judging will begin at 10:00 am.  The barbecue will begin at 11:00 am.  The awards ceremony will be held at 12:00 pm.  The chairman for the car show will be James Irick. Contact James at 505-385-0991 (cell)\, or Jon van Arsdel at 505-867-4135 (home). \nThere will also be a demonstration by a professional auto-detailer on how to clean your car the best way. \nSpecial thanks to Jeff Reece (chef extraordinaire)\, who will once again serve up grilled items for our enjoyment\, and Sandía BMW for hosting the Fiesta\, and providing the barbecue lunch. \n 
URL:https://www.nmbmwcca.org/event/2017-nm-bmw-cca-spring-fiesta-clean-car-show/
LOCATION:Sandia BMW\, 6001 Pan American Frwy. NE\, Albuquerque\, New Mexico\, 87109
CATEGORIES:Car Show
ATTACH;FMTTYPE=image/jpeg:https://www.nmbmwcca.org/wp-content/uploads/2020/07/2016-Spring-Fiesta.jpg
END:VEVENT
BEGIN:VEVENT
DTSTART;TZID=America/Denver:20160515T090000
DTEND;TZID=America/Denver:20160515T130000
DTSTAMP:20260419T201237
CREATED:20160503T022153Z
LAST-MODIFIED:20200804T040535Z
UID:2841-1463302800-1463317200@www.nmbmwcca.org
SUMMARY:2016 NM BMW CCA Spring Fiesta Clean Car Show
DESCRIPTION:MAY Spring Fiesta\nWHEN: May 15th at 9.00 am.\nWHERE: Sandia BMW in Albuquerque \nJoin us for our Spring Fiesta at Sandia BMW Sunday\, May 15. We’ll get the party started around 9:00 with registration for the clean car show and judging by CCA and Jaguar Judges! There will be formal judging this year\, and we will also give a People’s Choice award.  Please bring your car to the show\, even if you do not have time to fully detail it. \nRegistration will begin at 9:00 am\, and judging will begin at 10:00 am.  The barbecue will begin at 11:00 am.  The awards ceremony will be held at 12:00 pm.  The chairman for the car show will be James Irick. Contact James at 505-385-0991 (cell)\, or Jon van Arsdel at 505-867-4135 (home). \nSpecial thanks to Jeff Reece (chef extraordinaire)\, who will once again serve up grilled items for our enjoyment\, and Sandía BMW for hosting the Fiesta\, and providing the barbecue lunch. \n 
URL:https://www.nmbmwcca.org/event/2016-nm-bmw-cca-spring-fiesta-clean-car-show/
LOCATION:Sandia BMW\, 6001 Pan American Frwy. NE\, Albuquerque\, New Mexico\, 87109
CATEGORIES:Car Show
ATTACH;FMTTYPE=image/jpeg:https://www.nmbmwcca.org/wp-content/uploads/2020/07/2016-Spring-Fiesta.jpg
END:VEVENT
END:VCALENDAR