BEGIN:VCALENDAR
VERSION:2.0
PRODID:-//New Mexico Chapter of the BMW CCA - ECPv6.15.20//NONSGML v1.0//EN
CALSCALE:GREGORIAN
METHOD:PUBLISH
X-WR-CALNAME:New Mexico Chapter of the BMW CCA
X-ORIGINAL-URL:https://www.nmbmwcca.org
X-WR-CALDESC:Events for New Mexico Chapter of the BMW CCA
REFRESH-INTERVAL;VALUE=DURATION:PT1H
X-Robots-Tag:noindex
X-PUBLISHED-TTL:PT1H
BEGIN:VTIMEZONE
TZID:America/Denver
BEGIN:DAYLIGHT
TZOFFSETFROM:-0700
TZOFFSETTO:-0600
TZNAME:MDT
DTSTART:20240310T090000
END:DAYLIGHT
BEGIN:STANDARD
TZOFFSETFROM:-0600
TZOFFSETTO:-0700
TZNAME:MST
DTSTART:20241103T080000
END:STANDARD
BEGIN:DAYLIGHT
TZOFFSETFROM:-0700
TZOFFSETTO:-0600
TZNAME:MDT
DTSTART:20250309T090000
END:DAYLIGHT
BEGIN:STANDARD
TZOFFSETFROM:-0600
TZOFFSETTO:-0700
TZNAME:MST
DTSTART:20251102T080000
END:STANDARD
BEGIN:DAYLIGHT
TZOFFSETFROM:-0700
TZOFFSETTO:-0600
TZNAME:MDT
DTSTART:20260308T090000
END:DAYLIGHT
BEGIN:STANDARD
TZOFFSETFROM:-0600
TZOFFSETTO:-0700
TZNAME:MST
DTSTART:20261101T080000
END:STANDARD
END:VTIMEZONE
BEGIN:VEVENT
DTSTART;TZID=America/Denver:20250907T090000
DTEND;TZID=America/Denver:20250907T110000
DTSTAMP:20260420T164555
CREATED:20250828T155633Z
LAST-MODIFIED:20250828T155633Z
UID:7219-1757235600-1757242800@www.nmbmwcca.org
SUMMARY:September 2025 Borderland BMW Meetup at Lucy’s Restaurant in El Paso
DESCRIPTION:The September 2025 New Mexico BMW CCA Borderland Region First Sunday Meetup will be Sunday\, September 7\, 2025 at Lucy’s Restaurant\, (4119 N. Mesa) in El Paso at 9:00 a.m. Lucy’s has been around since 1978\, continuing founder Lucy Lepe’s tradition of homestyle Mexican food with every recipe intact. Come enjoy fellowship\, BMW talk and good food! \nThe Borderland Region gatherings on the first Sunday of the month help build the community for BMW owners in west Texas\, southern New Mexico\, and northern Chihuahua in addition to the regular chapter events.
URL:https://www.nmbmwcca.org/event/september-2025-borderland-bmw-meetup-at-lucys-restaurant-in-el-paso/
LOCATION:Lucy’s Restaurant\, 4119 N. Mesa\, El Paso\, Texas\, 79902
CATEGORIES:Borderland,Social Event
ATTACH;FMTTYPE=image/jpeg:https://www.nmbmwcca.org/wp-content/uploads/2024/08/Lucys-logo.jpg
ORGANIZER;CN="BMW CCA NM Chapter - Borderland":MAILTO:borderland@nmbmwcca.org
END:VEVENT
END:VCALENDAR