BEGIN:VCALENDAR
VERSION:2.0
PRODID:-//New Mexico Chapter of the BMW CCA - ECPv6.15.20//NONSGML v1.0//EN
CALSCALE:GREGORIAN
METHOD:PUBLISH
X-WR-CALNAME:New Mexico Chapter of the BMW CCA
X-ORIGINAL-URL:https://www.nmbmwcca.org
X-WR-CALDESC:Events for New Mexico Chapter of the BMW CCA
REFRESH-INTERVAL;VALUE=DURATION:PT1H
X-Robots-Tag:noindex
X-PUBLISHED-TTL:PT1H
BEGIN:VTIMEZONE
TZID:America/Denver
BEGIN:DAYLIGHT
TZOFFSETFROM:-0700
TZOFFSETTO:-0600
TZNAME:MDT
DTSTART:20240310T090000
END:DAYLIGHT
BEGIN:STANDARD
TZOFFSETFROM:-0600
TZOFFSETTO:-0700
TZNAME:MST
DTSTART:20241103T080000
END:STANDARD
BEGIN:DAYLIGHT
TZOFFSETFROM:-0700
TZOFFSETTO:-0600
TZNAME:MDT
DTSTART:20250309T090000
END:DAYLIGHT
BEGIN:STANDARD
TZOFFSETFROM:-0600
TZOFFSETTO:-0700
TZNAME:MST
DTSTART:20251102T080000
END:STANDARD
BEGIN:DAYLIGHT
TZOFFSETFROM:-0700
TZOFFSETTO:-0600
TZNAME:MDT
DTSTART:20260308T090000
END:DAYLIGHT
BEGIN:STANDARD
TZOFFSETFROM:-0600
TZOFFSETTO:-0700
TZNAME:MST
DTSTART:20261101T080000
END:STANDARD
END:VTIMEZONE
BEGIN:VEVENT
DTSTART;TZID=America/Denver:20250706T093000
DTEND;TZID=America/Denver:20250706T120000
DTSTAMP:20260420T201100
CREATED:20250628T162940Z
LAST-MODIFIED:20250628T162940Z
UID:7052-1751794200-1751803200@www.nmbmwcca.org
SUMMARY:July 2025 Borderland BMW Meetup at Another Broken Egg Cafe in El Paso
DESCRIPTION:The July 2025 NM BMW CCA Borderland Region First Sunday Meetup will be Sunday\, July 6th\, for brunch at Another Broken Egg Cafe\, 5863 N Mesa Street in El Paso. The cafe offers “southern-inspired culinary innovation and ‘craveably’ delicious dishes.” and is located off the corner of North Mesa Street and Sunland Park Drive. Come enjoy fellowship\, BMW talk and good food! \nThe Borderland Region gatherings on the first Sunday of the month help build the community for BMW owners in west Texas\, southern New Mexico\, and northern Chihuahua in addition to the regular chapter events. If you have a suggestion for a Borderland BMW event\, contact borderland@nmbmwcca.org.
URL:https://www.nmbmwcca.org/event/july-2025-borderland-bmw-meetup-at-another-broken-egg-cafe-in-el-paso/
LOCATION:Another Broken Egg Cafe\, 5863 N Mesa Street\, El Paso\, Texas\, 79912
CATEGORIES:Borderland,Social Event
ATTACH;FMTTYPE=image/jpeg:https://www.nmbmwcca.org/wp-content/uploads/2025/06/Another-Broken-Egg-Cafe.jpg
ORGANIZER;CN="BMW CCA NM Chapter - Borderland":MAILTO:borderland@nmbmwcca.org
END:VEVENT
END:VCALENDAR