BEGIN:VCALENDAR
VERSION:2.0
PRODID:-//New Mexico Chapter of the BMW CCA - ECPv6.15.20//NONSGML v1.0//EN
CALSCALE:GREGORIAN
METHOD:PUBLISH
X-ORIGINAL-URL:https://www.nmbmwcca.org
X-WR-CALDESC:Events for New Mexico Chapter of the BMW CCA
REFRESH-INTERVAL;VALUE=DURATION:PT1H
X-Robots-Tag:noindex
X-PUBLISHED-TTL:PT1H
BEGIN:VTIMEZONE
TZID:America/Denver
BEGIN:DAYLIGHT
TZOFFSETFROM:-0700
TZOFFSETTO:-0600
TZNAME:MDT
DTSTART:20240310T090000
END:DAYLIGHT
BEGIN:STANDARD
TZOFFSETFROM:-0600
TZOFFSETTO:-0700
TZNAME:MST
DTSTART:20241103T080000
END:STANDARD
BEGIN:DAYLIGHT
TZOFFSETFROM:-0700
TZOFFSETTO:-0600
TZNAME:MDT
DTSTART:20250309T090000
END:DAYLIGHT
BEGIN:STANDARD
TZOFFSETFROM:-0600
TZOFFSETTO:-0700
TZNAME:MST
DTSTART:20251102T080000
END:STANDARD
BEGIN:DAYLIGHT
TZOFFSETFROM:-0700
TZOFFSETTO:-0600
TZNAME:MDT
DTSTART:20260308T090000
END:DAYLIGHT
BEGIN:STANDARD
TZOFFSETFROM:-0600
TZOFFSETTO:-0700
TZNAME:MST
DTSTART:20261101T080000
END:STANDARD
END:VTIMEZONE
BEGIN:VEVENT
DTSTART;TZID=America/Denver:20250504T100000
DTEND;TZID=America/Denver:20250504T120000
DTSTAMP:20260420T232429
CREATED:20250428T161831Z
LAST-MODIFIED:20250428T161831Z
UID:6927-1746352800-1746360000@www.nmbmwcca.org
SUMMARY:May 2025 Borderland BMW Meetup At Ardovino’s Desert Crossing In Sunland Park
DESCRIPTION:The next NM BMW CCA Borderland Region First Sunday Meetup will be 10:00 am\, Sunday\, May 4\, 2025 at Ardovino’s Desert Crossing\, at 1 Ardovinos Dr\, Sunland Park\, NM. Weather permitting\, the patio is a great place for dining and conversation over some really good food. Join us for BMWs and Brunch! \nUncle Frank Ardovino\nFrank Ardovino\, an Italian immigrant\, served in the U.S. Cavalry and was stationed in El Paso. He was a fan of the finer things in life and enjoyed entertaining people. In 1949 he opened Ardovino’s Roadside Inn\, a fine dining and gambling establishment for high rollers\, in what was then called Anapra. By the time of his death in 1973 the place was run down and closed. Decades later his grandniece\, Marina Ardovino and her brother Robert restored the historic property. Today\, Ardovino’s Desert Crossing is an homage to Uncle Frank. Memorabilia and artifacts from years past adorn the walls. Forgotten spaces throughout the property are now fertile gardens\, and products from local\, family owned farms are used whenever possible. \nThe Borderland Region gatherings on the first Sunday of the month help build the community for BMW owners in west Texas\, southern New Mexico\, and northern Chihuahua in addition to the regular chapter events.
URL:https://www.nmbmwcca.org/event/may-2025-borderland-bmw-meetup-at-ardovinos-desert-crossing-in-sunland-park/
LOCATION:Ardovino’s Desert Crossing\, 1 Ardovinos Dr\, Sunland Park\, New Mexico\, 88063
CATEGORIES:Borderland,Social Event
ATTACH;FMTTYPE=image/jpeg:https://www.nmbmwcca.org/wp-content/uploads/2024/04/Ardovinos-Desert-Crossing.jpg
ORGANIZER;CN="BMW CCA NM Chapter - Borderland":MAILTO:borderland@nmbmwcca.org
END:VEVENT
END:VCALENDAR