BEGIN:VCALENDAR
VERSION:2.0
PRODID:-//New Mexico Chapter of the BMW CCA - ECPv6.15.20//NONSGML v1.0//EN
CALSCALE:GREGORIAN
METHOD:PUBLISH
X-ORIGINAL-URL:https://www.nmbmwcca.org
X-WR-CALDESC:Events for New Mexico Chapter of the BMW CCA
REFRESH-INTERVAL;VALUE=DURATION:PT1H
X-Robots-Tag:noindex
X-PUBLISHED-TTL:PT1H
BEGIN:VTIMEZONE
TZID:America/Denver
BEGIN:DAYLIGHT
TZOFFSETFROM:-0700
TZOFFSETTO:-0600
TZNAME:MDT
DTSTART:20240310T090000
END:DAYLIGHT
BEGIN:STANDARD
TZOFFSETFROM:-0600
TZOFFSETTO:-0700
TZNAME:MST
DTSTART:20241103T080000
END:STANDARD
BEGIN:DAYLIGHT
TZOFFSETFROM:-0700
TZOFFSETTO:-0600
TZNAME:MDT
DTSTART:20250309T090000
END:DAYLIGHT
BEGIN:STANDARD
TZOFFSETFROM:-0600
TZOFFSETTO:-0700
TZNAME:MST
DTSTART:20251102T080000
END:STANDARD
BEGIN:DAYLIGHT
TZOFFSETFROM:-0700
TZOFFSETTO:-0600
TZNAME:MDT
DTSTART:20260308T090000
END:DAYLIGHT
BEGIN:STANDARD
TZOFFSETFROM:-0600
TZOFFSETTO:-0700
TZNAME:MST
DTSTART:20261101T080000
END:STANDARD
END:VTIMEZONE
BEGIN:VEVENT
DTSTART;VALUE=DATE:20250405
DTEND;VALUE=DATE:20250407
DTSTAMP:20260421T010349
CREATED:20250301T001946Z
LAST-MODIFIED:20250405T021704Z
UID:6813-1743811200-1743983999@www.nmbmwcca.org
SUMMARY:CANCELLED - 2025 Spring Tour to Carlsbad Caverns
DESCRIPTION:The 2025 annual BMW CCA New Mexico Chapter Spring Tour to Carlsbad Caverns\, April 5th to April 6th has been cancelled due to inclement weather. Southeastern New Mexico will likely see a rain and snow mix Saturday into Saturday night making driving potentially dangerous. \nRooms booked within the block reserved by the NM Chapter at the Fairfield Inn & Suites Carlsbad have been canceled. You may call them direct at 575-887-8000 if you booked your room separately. \nIt is not known at this time if the tour will be rescheduled. \nStay Safe!
URL:https://www.nmbmwcca.org/event/2025-spring-tour-to-carlsbad-caverns/
LOCATION:Carlsbad Caverns National Park\, 727 Carlsbad Cavern Hwy\, Carlsbad\, New Mexico\, 88220
CATEGORIES:Borderland,Driving Event
ATTACH;FMTTYPE=image/jpeg:https://www.nmbmwcca.org/wp-content/uploads/2025/02/Carslbad-Caverns.jpg
ORGANIZER;CN="BMW CCA Chapter Event Coordinator":MAILTO:secretary@nmbmwcca.org
END:VEVENT
END:VCALENDAR