BEGIN:VCALENDAR
VERSION:2.0
PRODID:-//New Mexico Chapter of the BMW CCA - ECPv6.15.20//NONSGML v1.0//EN
CALSCALE:GREGORIAN
METHOD:PUBLISH
X-WR-CALNAME:New Mexico Chapter of the BMW CCA
X-ORIGINAL-URL:https://www.nmbmwcca.org
X-WR-CALDESC:Events for New Mexico Chapter of the BMW CCA
REFRESH-INTERVAL;VALUE=DURATION:PT1H
X-Robots-Tag:noindex
X-PUBLISHED-TTL:PT1H
BEGIN:VTIMEZONE
TZID:America/Denver
BEGIN:DAYLIGHT
TZOFFSETFROM:-0700
TZOFFSETTO:-0600
TZNAME:MDT
DTSTART:20240310T090000
END:DAYLIGHT
BEGIN:STANDARD
TZOFFSETFROM:-0600
TZOFFSETTO:-0700
TZNAME:MST
DTSTART:20241103T080000
END:STANDARD
BEGIN:DAYLIGHT
TZOFFSETFROM:-0700
TZOFFSETTO:-0600
TZNAME:MDT
DTSTART:20250309T090000
END:DAYLIGHT
BEGIN:STANDARD
TZOFFSETFROM:-0600
TZOFFSETTO:-0700
TZNAME:MST
DTSTART:20251102T080000
END:STANDARD
BEGIN:DAYLIGHT
TZOFFSETFROM:-0700
TZOFFSETTO:-0600
TZNAME:MDT
DTSTART:20260308T090000
END:DAYLIGHT
BEGIN:STANDARD
TZOFFSETFROM:-0600
TZOFFSETTO:-0700
TZNAME:MST
DTSTART:20261101T080000
END:STANDARD
END:VTIMEZONE
BEGIN:VEVENT
DTSTART;TZID=America/Denver:20250302T120000
DTEND;TZID=America/Denver:20250302T140000
DTSTAMP:20260421T023708
CREATED:20250221T183912Z
LAST-MODIFIED:20250221T183912Z
UID:6803-1740916800-1740924000@www.nmbmwcca.org
SUMMARY:Mar 2025 Borderland BMW Meetup at A Touch of Germany in El Paso
DESCRIPTION:The next NM BMW CCA Borderland Region First Sunday Meetup will be Sunday\, March 2\, 2025\, 12:00 pm at A Touch of Germany\, 9530 Viscount Blvd. in East El Paso. Join us for BMWs and Lunch! \nA Touch of Germany offers German cuisine\, featuring potato salad\, frankfurters\, and wiener schnitzels\, along with pretzels\, ice cream\, and apple strudel. Guests can enjoy draft beer\, wine\, and liqueur in a cozy atmosphere. The creative staff provides excellent service at reasonable prices\, and the bar boasts terrific decor. It has a 4.5-star rating on Google. \nThe Borderland Region gatherings on the first Sunday of the month help build the community for BMW owners in west Texas\, southern New Mexico\, and northern Chihuahua in addition to the regular chapter events. \nIf you have suggestions for events in southern New Mexico or the El Paso area\, contact borderland@nmbmwcca.org.
URL:https://www.nmbmwcca.org/event/mar-2025-borderland-bmw-meetup-at-a-touch-of-germany-in-el-paso/
LOCATION:A Touch of Germany\, 9530 Viscount Blvd\, El Paso\, Texas\, 79925
CATEGORIES:Borderland,Social Event
ATTACH;FMTTYPE=image/jpeg:https://www.nmbmwcca.org/wp-content/uploads/2025/02/A-Touch-of-Germany-store-front-3.jpg
ORGANIZER;CN="BMW CCA NM Chapter - Borderland":MAILTO:borderland@nmbmwcca.org
END:VEVENT
END:VCALENDAR