BEGIN:VCALENDAR
VERSION:2.0
PRODID:-//New Mexico Chapter of the BMW CCA - ECPv6.15.20//NONSGML v1.0//EN
CALSCALE:GREGORIAN
METHOD:PUBLISH
X-ORIGINAL-URL:https://www.nmbmwcca.org
X-WR-CALDESC:Events for New Mexico Chapter of the BMW CCA
REFRESH-INTERVAL;VALUE=DURATION:PT1H
X-Robots-Tag:noindex
X-PUBLISHED-TTL:PT1H
BEGIN:VTIMEZONE
TZID:America/Denver
BEGIN:DAYLIGHT
TZOFFSETFROM:-0700
TZOFFSETTO:-0600
TZNAME:MDT
DTSTART:20240310T090000
END:DAYLIGHT
BEGIN:STANDARD
TZOFFSETFROM:-0600
TZOFFSETTO:-0700
TZNAME:MST
DTSTART:20241103T080000
END:STANDARD
BEGIN:DAYLIGHT
TZOFFSETFROM:-0700
TZOFFSETTO:-0600
TZNAME:MDT
DTSTART:20250309T090000
END:DAYLIGHT
BEGIN:STANDARD
TZOFFSETFROM:-0600
TZOFFSETTO:-0700
TZNAME:MST
DTSTART:20251102T080000
END:STANDARD
BEGIN:DAYLIGHT
TZOFFSETFROM:-0700
TZOFFSETTO:-0600
TZNAME:MDT
DTSTART:20260308T090000
END:DAYLIGHT
BEGIN:STANDARD
TZOFFSETFROM:-0600
TZOFFSETTO:-0700
TZNAME:MST
DTSTART:20261101T080000
END:STANDARD
END:VTIMEZONE
BEGIN:VEVENT
DTSTART;TZID=America/Denver:20250202T110000
DTEND;TZID=America/Denver:20250202T130000
DTSTAMP:20260421T040630
CREATED:20250120T171726Z
LAST-MODIFIED:20250120T172216Z
UID:6696-1738494000-1738501200@www.nmbmwcca.org
SUMMARY:Feb 2025 Borderland BMW Meetup at Desert Oak Barbecue Cowtown in El Paso
DESCRIPTION:The February 2025 NM BMW CCA Borderland Region First Sunday Meetup will be Sunday\, February 2\, 2025\, 11:00 am at Desert Oak Barbecue Cowtown\, 11411 Gateway Blvd. West in El Paso. Join us for BMWs and Brunch! \nDesert Oak Barbecue has oak-smoked BBQ\, comfort-food sides & banana pudding\, offered in rustic digs with outdoor seating. It’s not only a local favorite but has also won plenty of national attention. The restaurant was featured in 2019 on the Food Network’s “Diners\, Drive-Ins and Dives” before landing a spot on the Texas Monthly Top 50 barbecue list in 2022. \nThe Borderland Region gatherings on the first Sunday of the month help build the community for BMW owners in west Texas\, southern New Mexico\, and northern Chihuahua in addition to the regular chapter events.
URL:https://www.nmbmwcca.org/event/feb-2025-borderland-bmw-meetup-at-desert-oak-barbecue-cowtown-in-el-paso/
LOCATION:Desert Oak Barbecue Cowtown\, 11411 Gateway Blvd. W\, El Paso\, Texas\, 79936
CATEGORIES:Borderland,Social Event
ATTACH;FMTTYPE=image/jpeg:https://www.nmbmwcca.org/wp-content/uploads/2024/02/Desert-Oak-Barbecue.jpg
ORGANIZER;CN="BMW CCA NM Chapter - Borderland":MAILTO:borderland@nmbmwcca.org
END:VEVENT
END:VCALENDAR