BEGIN:VCALENDAR
VERSION:2.0
PRODID:-//New Mexico Chapter of the BMW CCA - ECPv6.15.20//NONSGML v1.0//EN
CALSCALE:GREGORIAN
METHOD:PUBLISH
X-WR-CALNAME:New Mexico Chapter of the BMW CCA
X-ORIGINAL-URL:https://www.nmbmwcca.org
X-WR-CALDESC:Events for New Mexico Chapter of the BMW CCA
REFRESH-INTERVAL;VALUE=DURATION:PT1H
X-Robots-Tag:noindex
X-PUBLISHED-TTL:PT1H
BEGIN:VTIMEZONE
TZID:America/Denver
BEGIN:DAYLIGHT
TZOFFSETFROM:-0700
TZOFFSETTO:-0600
TZNAME:MDT
DTSTART:20230312T090000
END:DAYLIGHT
BEGIN:STANDARD
TZOFFSETFROM:-0600
TZOFFSETTO:-0700
TZNAME:MST
DTSTART:20231105T080000
END:STANDARD
BEGIN:DAYLIGHT
TZOFFSETFROM:-0700
TZOFFSETTO:-0600
TZNAME:MDT
DTSTART:20240310T090000
END:DAYLIGHT
BEGIN:STANDARD
TZOFFSETFROM:-0600
TZOFFSETTO:-0700
TZNAME:MST
DTSTART:20241103T080000
END:STANDARD
BEGIN:DAYLIGHT
TZOFFSETFROM:-0700
TZOFFSETTO:-0600
TZNAME:MDT
DTSTART:20250309T090000
END:DAYLIGHT
BEGIN:STANDARD
TZOFFSETFROM:-0600
TZOFFSETTO:-0700
TZNAME:MST
DTSTART:20251102T080000
END:STANDARD
END:VTIMEZONE
BEGIN:VEVENT
DTSTART;TZID=America/Denver:20241201T090000
DTEND;TZID=America/Denver:20241201T110000
DTSTAMP:20260421T065129
CREATED:20241023T174059Z
LAST-MODIFIED:20241023T174059Z
UID:6503-1733043600-1733050800@www.nmbmwcca.org
SUMMARY:Dec 2024 Borderland BMW Meetup at CoCol in Mission Valley
DESCRIPTION:The December 2024 NM BMW CCA Borderland Region First Sunday Meetup will be Sunday\, December 1\, 2024\, 9:00 am at CoCol: Coffee\, 10180 Socorro Road\, Socorro\,Texas\, about 16 miles south of El Paso in Mission Valley. \nCoCol is among the many new stores\, cafés\, restaurants\, breweries\, wine bars and art galleries along the El Paso Mission Trail – a 9-mile corridor in the southeast region of El Paso County named after the three historic missions that date back to the 17th- and 18th- centuries. The Ysleta Mission\, Socorro Mission and the Presidio Chapel of San Elizario are the oldest churches in Texas. The trail runs along Socorro Road – where the majority of the new businesses are located. \nThe Borderland Region gatherings on the first Sunday of the month help build the community for BMW owners in west Texas\, southern New Mexico\, and northern Chihuahua in addition to the regular chapter events. \nIf you have suggestions for events in southern New Mexico or the El Paso area\, contact borderland@nmbmwcca.org.
URL:https://www.nmbmwcca.org/event/dec-2024-borderland-bmw-meetup-at-cocol-in-mission-valley/
LOCATION:CoCol: Coffee\, 10180 Socorro Road\, Socorro\, Texas\, 79927
CATEGORIES:Borderland,Social Event
ATTACH;FMTTYPE=image/jpeg:https://www.nmbmwcca.org/wp-content/uploads/2023/11/Cocol.jpg
ORGANIZER;CN="BMW CCA NM Chapter - Borderland":MAILTO:borderland@nmbmwcca.org
END:VEVENT
END:VCALENDAR